BEGIN:VCALENDAR
VERSION:2.0
PRODID:-//wp-events-plugin.com//7.2.3.1//EN
TZID:Europe/Berlin
X-WR-TIMEZONE:Europe/Berlin
BEGIN:VEVENT
UID:4636@frauenportal.koeln
DTSTART;TZID=Europe/Berlin:20240127T180000
DTEND;TZID=Europe/Berlin:20240127T200000
DTSTAMP:20241230T161918Z
URL:https://frauenportal.koeln/veranstaltungen/erinnern-eine-bruecke-in-di
 e-zukunft/
SUMMARY:Erinnern - Eine Brücke in die Zukunft
DESCRIPTION:“Niemand wurde zu Recht in einem Konzentrationslager inhaftie
 rt\, gequält oder ermordet.” Mit diesen Worten erkannte der Bundestag 
 – mit Ausnahme der AFD – im Februar 2020\, 75 Jahre nach Ende der NS-D
 iktatur\, tausende von Menschen als NS-Opfer an\, die bis dahin als sogena
 nnte “Asoziale” und “Berufsverbrecher” gegolten hatten. In der NS-
 Zeit konnte die Zuschreibung “asozial” die Deportation in ein KZ bedeu
 ten und zum Todesurteil werden. Auch heute ist der Begriff mit Ausgrenzung
  verbunden. Die Überlebenden hatten meist aus Scham keine Anträge auf En
 tschädigung gestellt und bekommen bis heute nur selten einen Stolperstein
  gesetzt. Für die meisten kommt jede Anerkennnung zu spät.\n\nHier ist d
 ie Einladung: Erinnern - Eine Bruecke in die Zukunft_Einladungsflyer (pdf-
 Datei\, 45 KB)\n\nVeranstalterinnen:\nProjektgruppe Gedenktag\, u.a. mit K
 ölner Frauengeschichtsverein e.V.\n\nKontakt:\nTel.: 0221 / 24 82 65\, E-
 Mail: info@frauengeschichtsverein.de
LOCATION:Antoniterkirche\, Schildergasse 57\, 50667 Köln
GEO:50.9364444;6.9535376
X-APPLE-STRUCTURED-LOCATION;VALUE=URI;X-ADDRESS=Schildergasse 57\, Köln\, 
 50667\, Veranstaltungsort\, Deutschland;X-APPLE-RADIUS=100;X-TITLE=Antonit
 erkirche:geo:50.9364444,6.9535376
END:VEVENT
BEGIN:VTIMEZONE
TZID:Europe/Berlin
X-LIC-LOCATION:Europe/Berlin
BEGIN:STANDARD
DTSTART:20231029T020000
TZOFFSETFROM:+0200
TZOFFSETTO:+0100
TZNAME:CET
END:STANDARD
END:VTIMEZONE
END:VCALENDAR