BEGIN:VCALENDAR
VERSION:2.0
PRODID:-//wp-events-plugin.com//7.2.3.1//EN
TZID:Europe/Berlin
X-WR-TIMEZONE:Europe/Berlin
BEGIN:VEVENT
UID:1404@frauenportal.koeln
DTSTART;TZID=Europe/Berlin:20181108T160000
DTEND;TZID=Europe/Berlin:20181108T180000
DTSTAMP:20181031T185725Z
URL:https://frauenportal.koeln/veranstaltungen/eroeffnung-gedok-jahresauss
 tellung-angewandte-kunst-design-und-bildende-kunst/
SUMMARY:Eröffnung: GEDOK Jahresausstellung Angewandte Kunst & Design und B
 ildende Kunst
DESCRIPTION:Die diesjährige Ausstellung der Fachbereiche Angewandte Kunst 
 &amp\; Design sowie Bildende Kunst trägt den Titel „verWegen“.\n\nDyn
 amik\, Energie\, Mut – vielfältig ist die Deutung des Themas der diesj
 ährigen Ausstellung. Und die Objekte? Was macht sie einzigartig\, verwege
 n\, besonders? Was verleiht ihnen eigene Kraft?\nGEDOK-Künstlerinnen und 
 Gäste der Angewandten Kunst &amp\; Design sowie der Bildenden Kunst aus N
 RW und anderen Bundesländern freuen sich auf die BesucherInnen und zeigen
  ihre breitgefächerte Auseinandersetzung mit dem diesjährigen Thema.\n\n
 Vernissage:\nDonnerstag\, 08. November 2018\, 16 Uhr\nBegrüßung: Maria W
 rede \, 1. Vorsitzende\nPeter Panzer\, stellv. Hauptgeschäftsführer der 
 Handwerkskammer zu Köln\nMusikalisch wird die Vernissage von Kristina Bro
 dersen\, Altsaxophon\, begleitet.\n\nAn den folgenden Ausstellungstagen st
 ellen sich weitere Fachbereiche der GEDOK vor:\n\nFreitag\, 09.November 20
 18\, 12 Uhr\nEli Thoböll\, Akkordeon (Musik)\n\nSamstag\, 10.November 201
 8\, 15 Uhr\nBettina Hesse und Doris Konradi im Dialog mit Neuer Prosa (Lit
 eratur)\n\nFinissage: \nSonntag\, 11. November 2018\, 15 Uhr\nRenate Fuhrm
 ann\, Schauspielerin (Darstellende Kunst)\nAnlässlich der Finissage wird 
 zu einem Umtrunk eingeladen.\n\nÖffnungszeigen der Ausstellung: \n08.11. 
 bis 11.11.2018\, ab 09.11. täglich von 12–17 Uhr\n\nHier ist die Einlad
 ung: GEDOK_HWK_2018 (pdf-Datei\, 1 MB)\n\nVeranstalterin:\nGEDOK Köln\n\n
 Kontakt:\nGeschäftsstelle der GEDOK Köln\, Tel.: 0221 / 43 33 49\, E-Mai
 l: info@gedok-koeln.de\n\nKosten / Anmeldung:\nEintritt frei\, Spenden er
 wünscht.\n\nVeranstaltungsort:\nAusstellungshalle der Handwerkskammer zu 
 Köln\, Heumarkt 12\, 50667 Köln\, [map id=983]
END:VEVENT
BEGIN:VTIMEZONE
TZID:Europe/Berlin
X-LIC-LOCATION:Europe/Berlin
BEGIN:STANDARD
DTSTART:20181028T020000
TZOFFSETFROM:+0200
TZOFFSETTO:+0100
TZNAME:CET
END:STANDARD
END:VTIMEZONE
END:VCALENDAR