BEGIN:VCALENDAR
VERSION:2.0
PRODID:-//wp-events-plugin.com//7.2.3.1//EN
TZID:Europe/Berlin
X-WR-TIMEZONE:Europe/Berlin
BEGIN:VEVENT
UID:3900@frauenportal.koeln
DTSTART;TZID=Europe/Berlin:20221028T190000
DTEND;TZID=Europe/Berlin:20221028T210000
DTSTAMP:20220930T130946Z
URL:https://frauenportal.koeln/veranstaltungen/es-ist-normal-verschieden-z
 u-sein/
SUMMARY:Es ist normal verschieden zu sein
DESCRIPTION:– Umgang mit Menschen\, die an einer Demenz leiden –\n\nThe
 men des Vortrags sind:\n\n        \n	Begegnung mit Menschen\, die an einer
  Demenz leiden\,\n\n\n        	Schwierigkeiten des Verstehens oder Unfähi
 gkeit des Mitleidens\n\n\n        	Gedanken über eine Ethik der Begleiten
 den von Menschen mit Demenz\n\n\n        	Wunsch nach Menschen mit Gelasse
 nheit\, Phantasie und Distanzfähigkeit\n\nEs gibt Raum für Fragen und Au
 stausch.\n\nReferentin:\nTatjana Jurczok-Steding\, Ärztin und Dozentin f
 ür Gerontopsychiatrie\n\nVeranstalterin:\nBeginen Köln e.V.\n\nAnsprechp
 artnerinnen:\nChristine Müthrath\, Tel.: 0221 / 9655820\, E-Mail: info@be
 ginen.de\n\nKosten / Anmeldung:\nKostenbeitrag: 10\,- € / 8\,- € ermä
 ßigter Beitrag (für Beginen und Kölnpassinhaber*innen)\nAnmeldung erfor
 derlich. \n\nVeranstaltungsort:\nBeginentreff im Beginenhof Köln\, Unter 
 Linden 119\, 50859 Köln\, [map id=1048]
END:VEVENT
BEGIN:VTIMEZONE
TZID:Europe/Berlin
X-LIC-LOCATION:Europe/Berlin
BEGIN:DAYLIGHT
DTSTART:20220327T030000
TZOFFSETFROM:+0100
TZOFFSETTO:+0200
TZNAME:CEST
END:DAYLIGHT
END:VTIMEZONE
END:VCALENDAR