BEGIN:VCALENDAR
VERSION:2.0
PRODID:-//wp-events-plugin.com//7.2.3.1//EN
TZID:Europe/Berlin
X-WR-TIMEZONE:Europe/Berlin
BEGIN:VEVENT
UID:5373@frauenportal.koeln
DTSTART;TZID=Europe/Berlin:20241206T190000
DTEND;TZID=Europe/Berlin:20241206T210000
DTSTAMP:20241130T131120Z
URL:https://frauenportal.koeln/veranstaltungen/es-muss-nichts-bleiben/
SUMMARY:"Es muss nichts bleiben"
DESCRIPTION:Ein Streifzug durch Leben und Werk der Ilse Aichinger.\n\nIm No
 vember 2021 jährte sich der Geburtstag der österreichischen Schriftstell
 erin Ilse Aichinger zum hundertsten Mal\, ein guter Grund\, »unglaubwürd
 ige Reisen« durch ihr Leben und Werk zu unternehmen. Geboren wurde sie in
  Wien\, mit ihrer »Spiegelgeschichte« gewann sie 1952 den Preis der Grup
 pe 47\, Auftakt für ein Autorinnen-Leben\, das sich ganz den Grenzen und 
 Möglichkeiten der Sprache nach dem Nationalsozialismus verschrieben hat.\
 n\nIlse Aichingers Werk lebt von einer Genauigkeit und einem sprachlichen 
 Ausloten\, das immer auch gesellschaftliche Entwicklungen ihrer Zeit fokus
 siert und spannende Perspektiven auf heutige Fragen ermöglicht.\n\nRefere
 ntin:\nDr. Simone Scharbert\, freie Autorin und Dozentin\, www.simoneschar
 bert.de\n\nVeranstalterinnen:\nBeginen Köln e.V.\n\nAnsprechpartnerinnen:
 \nChristine Müthrath\, Tel.: 0221 / 9655820\, E-Mail: info@beginen.de\n\n
 Kosten:\nKostenbeitrag: 10 € / 8 € ermäßigter Beitrag (für Beginen 
 und KölnPass-Inhaber*innen)
LOCATION:Beginenhof Köln\, Unter Linden 119\, 50859 Köln
GEO:50.9636513;6.8421158
X-APPLE-STRUCTURED-LOCATION;VALUE=URI;X-ADDRESS=Unter Linden 119\, Köln\, 
 50859\, Veranstaltungsort\, Deutschland;X-APPLE-RADIUS=100;X-TITLE=Beginen
 hof Köln:geo:50.9636513,6.8421158
END:VEVENT
BEGIN:VTIMEZONE
TZID:Europe/Berlin
X-LIC-LOCATION:Europe/Berlin
BEGIN:STANDARD
DTSTART:20241027T020000
TZOFFSETFROM:+0200
TZOFFSETTO:+0100
TZNAME:CET
END:STANDARD
END:VTIMEZONE
END:VCALENDAR