BEGIN:VCALENDAR
VERSION:2.0
PRODID:-//wp-events-plugin.com//7.2.3.1//EN
TZID:Europe/Berlin
X-WR-TIMEZONE:Europe/Berlin
BEGIN:VEVENT
UID:2390@frauenportal.koeln
DTSTART;TZID=Europe/Berlin:20191027T140000
DTEND;TZID=Europe/Berlin:20191027T153000
DTSTAMP:20191021T101012Z
URL:https://frauenportal.koeln/veranstaltungen/et-koelsche-grundgesetz-koe
 lner-mentalitaet-op-koelsch/
SUMMARY:Et kölsche Grundgesetz - Kölner Mentalität "op Kölsch"
DESCRIPTION:"Kennen Sie das Kölner Grundgesetz? Es handelt sich um Lebensw
 eisheiten auf kölsche Art. Für jede Lebenssituation haben die KölnerInn
 en den passenden Spruch. Wie wird das kölsche Grundgsetz angewendet? Wiev
 iele Artikel gibt es (tatsächlich)? Eingebettet in kurzweilige\, lustige 
 Geschichten kann die typisch Kölsche Mentalität von ihrer philosophische
 n Seite kennengelernt werden."\n\nKosten: Euro 12\,00 pro Person\nTreffpun
 kt: Römertor auf der Domplatte am Dom (Kardinal-Höffner-Platz)\n\nErlebn
 istouren Köln &amp\; Region - Tour-Agentur
END:VEVENT
BEGIN:VTIMEZONE
TZID:Europe/Berlin
X-LIC-LOCATION:Europe/Berlin
BEGIN:STANDARD
DTSTART:20191027T020000
TZOFFSETFROM:+0200
TZOFFSETTO:+0100
TZNAME:CET
END:STANDARD
END:VTIMEZONE
END:VCALENDAR