BEGIN:VCALENDAR
VERSION:2.0
PRODID:-//wp-events-plugin.com//7.2.3.1//EN
TZID:Europe/Berlin
X-WR-TIMEZONE:Europe/Berlin
BEGIN:VEVENT
UID:6199@frauenportal.koeln
DTSTART;TZID=Europe/Berlin:20260113T183000
DTEND;TZID=Europe/Berlin:20260113T210000
DTSTAMP:20260414T082652Z
URL:https://frauenportal.koeln/veranstaltungen/ewmd-rhein-ruhr-stammtisch-
 in-koeln/
SUMMARY:EWMD Rhein-Ruhr Stammtisch in Köln
DESCRIPTION:Der Rhein-Ruhr Stammtisch ist ein regelmäßiges Networking-Tre
 ffen für Austausch\, Inspiration und persönliche Gespräche in entspannt
 er Atmosphäre. Die Treffen finden alle zwei Monate im Wechsel in Köln un
 d Düsseldorf statt und starten jeweils um 18.30 Uhr.\n\nTermine & Orte 20
 26 (jeweils 18:30 Uhr):\n\n    13.01.2026 – Köln\, Restaurant im Ludwig
  Museum\n    12.03.2026 – Düsseldorf\, Wilma Wunder\n    12.05.2026 –
  Köln\, Restaurant im Ludwig Museum\n    09.07.2026 – Düsseldorf\, Wil
 ma Wunder\n    08.09.2026 – Köln\, Restaurant im Ludwig Museum\n    12.
 11.2026 – Düsseldorf\, Wilma Wunder\n\nVeranstalterin:\nEWMD Rhein-Ruhr
 \, https://ger.ewmd.org\n\nAnsprechpartnerin:\nSibylle Büttner\, EWMD Cor
 porate Members Director\, E-Mail: cm.germany@ewmd.org\n\nKosten / Anmeldun
 g:\nEingeladen sind Mitglieder und Interessierte. Vorherige Anmeldung erbe
 ten.
LOCATION:Ludwig im Museum\, Heinrich-Böll-Platz\, 50667 Köln
GEO:50.9410831;6.9609768999999915
X-APPLE-STRUCTURED-LOCATION;VALUE=URI;X-ADDRESS=Heinrich-Böll-Platz\, Köl
 n\, 50667\, Veranstaltungsort\, Deutschland;X-APPLE-RADIUS=100;X-TITLE=Lud
 wig im Museum:geo:50.9410831,6.9609768999999915
END:VEVENT
BEGIN:VTIMEZONE
TZID:Europe/Berlin
X-LIC-LOCATION:Europe/Berlin
BEGIN:STANDARD
DTSTART:20251026T020000
TZOFFSETFROM:+0200
TZOFFSETTO:+0100
TZNAME:CET
END:STANDARD
END:VTIMEZONE
END:VCALENDAR