BEGIN:VCALENDAR
VERSION:2.0
PRODID:-//wp-events-plugin.com//7.2.3.1//EN
TZID:Europe/Berlin
X-WR-TIMEZONE:Europe/Berlin
BEGIN:VEVENT
UID:434@frauenportal.koeln
DTSTART;TZID=Europe/Berlin:20170914T190000
DTEND;TZID=Europe/Berlin:20170914T213000
DTSTAMP:20170904T062153Z
URL:https://frauenportal.koeln/veranstaltungen/ewmd-stammtisch-koeln-busin
 ess-and-networking-2/
SUMMARY:EWMD Stammtisch Köln - Business and Networking
DESCRIPTION:Beim EWMD-Netzwerkabend geht es darum\, sich auszutauschen\, ge
 genseitig Anregungen und Unterstützung zu geben\, Geschäftskontakte zu k
 nüpfen\, interessante Gesprächspartnerinnen kennen zu lernen und natürl
 ich einen netten Abend zu verbringen.\n\nVeranstalterin:\nEWMD - European 
 Women's Management Development International Network\, www.ewmd.org\n\nAns
 prechpartnerin:\nJessica Macherey\, E-Mail: Jessica.macherey@gmx.de\n\nKos
 ten / Anmeldung:\nUm Anmeldung wird gebeten\, damit entsprechend reservier
 t werden kann.\n\nVeranstaltungsort:\nWeinhaus Brungs\, Am Marsplatz 3-5\,
  50667 Köln\, [map id=1081]
END:VEVENT
BEGIN:VTIMEZONE
TZID:Europe/Berlin
X-LIC-LOCATION:Europe/Berlin
BEGIN:DAYLIGHT
DTSTART:20170326T030000
TZOFFSETFROM:+0100
TZOFFSETTO:+0200
TZNAME:CEST
END:DAYLIGHT
END:VTIMEZONE
END:VCALENDAR