BEGIN:VCALENDAR
VERSION:2.0
PRODID:-//wp-events-plugin.com//7.2.3.1//EN
TZID:Europe/Berlin
X-WR-TIMEZONE:Europe/Berlin
BEGIN:VEVENT
UID:339@frauenportal.koeln
DTSTART;TZID=Europe/Berlin:20170427T190000
DTEND;TZID=Europe/Berlin:20170427T213000
DTSTAMP:20170529T051636Z
URL:https://frauenportal.koeln/veranstaltungen/ewmd-stammtisch-koeln-busin
 ess-and-networking-27-april-2017-donnerstag/
SUMMARY:EWMD Stammtisch Köln - Business and Networking 
DESCRIPTION:\n          \n\n  Beim EWMD-Netzwerkabend geht es darum\, sich 
 auszutauschen\, gegenseitig Anregungen und Unterstützung zu geben\, Gesch
 äftskontakte zu knüpfen\, interessante Gesprächspartnerinnen kennen zu 
 lernen und natürlich einen netten Abend zu verbringen.Veranstalterin:EWMD
  - European Women's Management Development International Network\,  www.ew
 md.orgAnsprechpartnerin:Jessica Macherey\, E-Mail: eval(decodeURIComponent
 ('%76%61%72%20%73%3D%27%65%4A%73%73%63%69%2E%61%61%6D%68%63%72%65%79%65%67
 %40%78%6D%64%2E%65%27%3B%76%61%72%20%72%3D%27%27%3B%66%6F%72%28%76%61%72%2
 0%69%3D%30%3B%69%3C%73%2E%6C%65%6E%67%74%68%3B%69%2B%2B%2C%69%2B%2B%29%7B%
 72%3D%72%2B%73%2E%73%75%62%73%74%72%69%6E%67%28%69%2B%31%2C%69%2B%32%29%2B
 %73%2E%73%75%62%73%74%72%69%6E%67%28%69%2C%69%2B%31%29%7D%64%6F%63%75%6D%6
 5%6E%74%2E%77%72%69%74%65%28%27%3C%61%20%68%72%65%66%3D%22%6D%61%69%6C%74%
 6F%3A%27%2B%72%2B%27%22%3E%4A%65%73%73%69%63%61%2E%6D%61%63%68%65%72%65%79
 %40%67%6D%78%2E%64%65%3C%2F%61%3E%27%29%3B'))Kosten / Anmeldung:Um Anmeldu
 ng wird gebeten\, damit entsprechend reserviert werden kann.Veranstaltungs
 ort:Weinhaus Brungs\, Am Marsplatz 3-5\, 50667 Köln\, Lageplan
END:VEVENT
BEGIN:VTIMEZONE
TZID:Europe/Berlin
X-LIC-LOCATION:Europe/Berlin
BEGIN:DAYLIGHT
DTSTART:20170326T030000
TZOFFSETFROM:+0100
TZOFFSETTO:+0200
TZNAME:CEST
END:DAYLIGHT
END:VTIMEZONE
END:VCALENDAR