BEGIN:VCALENDAR
VERSION:2.0
PRODID:-//wp-events-plugin.com//7.2.3.1//EN
TZID:Europe/Berlin
X-WR-TIMEZONE:Europe/Berlin
BEGIN:VEVENT
UID:4705@frauenportal.koeln
DTSTART;TZID=Europe/Berlin:20240313T103000
DTEND;TZID=Europe/Berlin:20240313T113000
DTSTAMP:20250829T075942Z
URL:https://frauenportal.koeln/veranstaltungen/fair-teilen-fuer-eine-partn
 erschaftliche-aufteilung-der-care-arbeit/
SUMMARY:Fair teilen: Für eine partnerschaftliche Aufteilung der Care-Arbei
 t
DESCRIPTION:– Wie können KMU Employer Benefits geschickt nutzen? –\n\n
 Vorgestellt wird die App "equaly"\, die nach dem Motto „für weniger Str
 eit und mehr Zeit zu zweit“ die faire Aufteilung der Care-Arbeit in Part
 nerschaften zum Thema hat. Ziel: Beide Elternteile können gleichberechtig
 t ihre Ambitionen im Job und als Eltern verfolgen. equaly bietet Checklist
 en und Hinweise zu Alltags- und Vereinbarkeitsorganisation sowie zur finan
 ziellen Seite der Partnerschaft. Außerdem gibt es eine Community für den
  Austausch. Kleinere und mittlere Unternehmen können equaly wirkungsvoll 
 als Employer Benefit einsetzen\, um Frauen und Männer dabei zu unterstüt
 zen\, den Gender-Care-Gap zu schließen.\n\nAußerdem können die Unterst
 ützungsangebote des Gateway Exzellenz Start-up Center in Köln für neue 
 und erfahrene KMU kennengelernt werden.\n\nMit dieser Veranstaltung starte
 t innerhalb der 4. Digitalen Fachkräftewoche die neue Competentia-Online-
 Reihe für KMU "Fast & Practical". \n\nVeranstalterin:\nCompetentia - Komp
 etenzzentrum Frau &amp\; Beruf Region Köln\, www.competentia-region-koeln
 .de\n\nKontakt:\nKompetenzzentrum Frau &amp\; Beruf Region Köln\,  Doroth
 ee Mennicken\, Tel.: 0221 / 355065-50\, E-Mail: Dorothee.Mennicken@stadt-k
 oeln.de\n\nKosten / Anmeldung:\nDie Veranstaltung ist kostenfrei und finde
 t online statt.\nAnmeldung bitte per Mail an competentia@stadt-koeln.de
END:VEVENT
BEGIN:VTIMEZONE
TZID:Europe/Berlin
X-LIC-LOCATION:Europe/Berlin
BEGIN:STANDARD
DTSTART:20231029T020000
TZOFFSETFROM:+0200
TZOFFSETTO:+0100
TZNAME:CET
END:STANDARD
END:VTIMEZONE
END:VCALENDAR