BEGIN:VCALENDAR
VERSION:2.0
PRODID:-//wp-events-plugin.com//7.2.3.1//EN
TZID:Europe/Berlin
X-WR-TIMEZONE:Europe/Berlin
BEGIN:VEVENT
UID:5160@frauenportal.koeln
DTSTART;TZID=Europe/Berlin:20240909T170000
DTEND;TZID=Europe/Berlin:20240909T200000
DTSTAMP:20240828T125841Z
URL:https://frauenportal.koeln/veranstaltungen/feier-zur-veroeffentlichung
 -geschichten-von-pionierinnen-aus-den-gastarbeiterlaendern-in-koeln-und-de
 m-rheinland/
SUMMARY:Feier zur Veröffentlichung: "Geschichten von Pionierinnen aus den 
 'Gastarbeiterländern' in Köln und dem Rheinland"
DESCRIPTION:Durch die beeindruckenden und bewegenden Interviews mit 19 Frau
 en der ersten\, zweiten und dritten Generation aus den Anwerbeländern ist
  eine Broschüre entstanden\, die nicht nur die vielfältigen Lebenswege d
 ieser Frauen in Deutschland sichtbar macht\, sondern auch den oft überseh
 enen Frauen jener Ära eine wertvolle Stimme gibt. Ihre Geschichten erzäh
 len von Mut\, Abenteuerlust\, Herausforderungen und unerschütterlichem Wi
 llen. \n\nVeranstalterinnen:\nFEE – Fördern & Erfolge Ernten e.V.\, www
 .fee-koeln.de \n\nAnsprechpartnerin:\nJanosenth Sothinathan\, Tel.: 0163 /
 2181283\, E-Mail: sothinathan@fee-koeln.de
LOCATION:FEE - Fördern und Erfolg ernten e.V.\, Piccoloministr. 435\, 5106
 7 Köln
GEO:50.973107;7.048555
X-APPLE-STRUCTURED-LOCATION;VALUE=URI;X-ADDRESS=Piccoloministr. 435\, Köln
 \, 51067\, Frauenorganisation\, Deutschland;X-APPLE-RADIUS=100;X-TITLE=FEE
  - Fördern und Erfolg ernten e.V.:geo:50.973107,7.048555
END:VEVENT
BEGIN:VTIMEZONE
TZID:Europe/Berlin
X-LIC-LOCATION:Europe/Berlin
BEGIN:DAYLIGHT
DTSTART:20240331T030000
TZOFFSETFROM:+0100
TZOFFSETTO:+0200
TZNAME:CEST
END:DAYLIGHT
END:VTIMEZONE
END:VCALENDAR