BEGIN:VCALENDAR
VERSION:2.0
PRODID:-//wp-events-plugin.com//7.2.3.1//EN
TZID:Europe/Berlin
X-WR-TIMEZONE:Europe/Berlin
BEGIN:VEVENT
UID:5091@frauenportal.koeln
DTSTART;TZID=Europe/Berlin:20240605T180000
DTEND;TZID=Europe/Berlin:20240605T200000
DTSTAMP:20240531T123241Z
URL:https://frauenportal.koeln/veranstaltungen/feminismus-und-altersaktivi
 smus/
SUMMARY:Feminismus und Altersaktivismus
DESCRIPTION:– Von Grandes Dames\, „wunderschönem Welkfleisch“ und 
 „Damengedecken 2.0“ –\n\nFeministinnen wie Simone de Beauvoir\, Susa
 n Sontag oder Silvia Bovenschen haben den Kampf gegen Sexismus und Ageismu
 s miteinander verbunden und die intersektionalen Verschränkungen zwischen
  Alter und Geschlecht schon früh betont. Dennoch verengen sich die Blickw
 inkel immer wieder: Ageismus und Altersdiskriminierung sind weiterhin gese
 llschaftlich weit verbreitet und treffen Frauen in besonderem Maße. In de
 r kulturellen Bildung finden sich jedoch vermehrt Projekte\, die sich aus 
 einer feministischen Perspektive mit Ageismus und Altersdiskriminierung au
 seinandersetzen und danach fragen\, für wen welche Räume geöffnet sind 
 und was das mit Sichtbarkeit und Machtverhältnissen zu tun hat. Nach eine
 r kurzen Einführung in zentrale Positionen des geronto-feministischen Dis
 kurses werden im Vortrag konkrete Beispiele aus der aktuellen künstlerisc
 h-kulturgeragogischen Praxis vorgestellt. Anschließend: Diskussion!\n\nRe
 ferentin:\nDr.in Miriam Haller\, www.passagenwerkstatt.de\n\nVeranstalteri
 n:\nKölner Frauengeschichtsverein e.V.\nin Kooperation mit: kubia – Kom
 petenzzentrum für Kulturelle Bildung im Alter und inklusive Kultur\, www.
 kubia.nrw\n\nKontakt:\nTel.: 0221 / 24 82 65\, E-Mail: info@frauengeschic
 htsverein.de\n\nKosten / Anmeldung:\nKostenbeitrag: 8 Euro
LOCATION:Kölner Frauengeschichtsverein\, Höninger Weg 100a\, 50969 Köln
GEO:50.916357;6.941413
X-APPLE-STRUCTURED-LOCATION;VALUE=URI;X-ADDRESS=Höninger Weg 100a\, Köln\
 , 50969\, Frauenorganisation\, Deutschland;X-APPLE-RADIUS=100;X-TITLE=Köl
 ner Frauengeschichtsverein:geo:50.916357,6.941413
END:VEVENT
BEGIN:VTIMEZONE
TZID:Europe/Berlin
X-LIC-LOCATION:Europe/Berlin
BEGIN:DAYLIGHT
DTSTART:20240331T030000
TZOFFSETFROM:+0100
TZOFFSETTO:+0200
TZNAME:CEST
END:DAYLIGHT
END:VTIMEZONE
END:VCALENDAR