BEGIN:VCALENDAR
VERSION:2.0
PRODID:-//wp-events-plugin.com//7.2.3.1//EN
TZID:Europe/Berlin
X-WR-TIMEZONE:Europe/Berlin
BEGIN:VEVENT
UID:6168@frauenportal.koeln
DTSTART;TZID=Europe/Berlin:20260426T130000
DTEND;TZID=Europe/Berlin:20260426T150000
DTSTAMP:20260326T104737Z
URL:https://frauenportal.koeln/veranstaltungen/feministische-buchwoche-bar
 bara-fischer-wikingerinnen-der-horizont-ist-nur-der-anfang/
SUMMARY:Feministische Buchwoche – Barbara Fischer: Wikingerinnen. Der Hor
 izont ist nur der Anfang
DESCRIPTION:Vortrag und Lesung.\n\nNordische Sagas sind ein gutes Beispiel\
 , um den mit dem patriarchalen Narrativ einhergehenden Kulturbruch darzust
 ellen\, der Frauen aus ihren Kompetenzbereichen vertrieb\, weibliche Autor
 itäten eliminierte sowie ihre Wissensstände entwertete und vernichtete. 
 \n\nIn dem Vortrag der Autorin und Wikingerinnenforscherin Barbara Fischer
  geht es neben patriarchalen Überlieferungsmechanismen um konstruierte Ge
 schlechterbilder und Genderfluid im sozialen und kultur-historischen Konte
 xt. Das patriarchale Narrativ hat mit Beginn des monotheistischen Christen
 tums immer wieder dasselbe Feld beackert und mit der geschlechtlichen Bina
 rität auch gleich die jeweils für ihn passenden Verhaltensmuster und Cha
 rakterzuschreibungen installiert. \n\nIn der sonntäglichen Matinee gibt e
 s zum Vortrag eine Leseprobe der Baumweltensaga „Freyja“\, die hermaph
 rodite Gottheit des nordischen Pantheons\, Glücksbringerin\, Kämpferin u
 nd Urmutter aller Frauen. \nDie feministische Fantasyreihe Baumweltensaga 
 der Autorin entfernt die patriarchale Patina von den Erzählungen ihrer Pr
 otagonistinnen und stellt Frauen\, wie sie waren und sind\, in den Mittelp
 unkt des Geschehens. In Band 2 „Freyja“ geht es um einen Sportwettkamp
 f. Die Nerthus Spiele stehen an. Freyja nimmt als Favoritin teil. Doch bis
  zum ersehnten Pokal ist es ein weiter Weg. Erstmal muss sie kurz vorher n
 och die Welt retten und macht dabei eine interessante Erfahrung.\n\nVerans
 talterinnen:\nBücherFrauen e.V. Regionalgruppe Köln/Bonn-Rhein-Ruhr\, ww
 w.buecherfrauen.de\nin Kooperation mit: BeginenSalon/Beginen Köln e.V.\n\
 nAnsprechpartnerin:\nBarbara Fischer\, Regionalsprecherin\, E-Mail: koeln-
 bonn@buecherfrauen.de
LOCATION:Beginenfenster Köln\, Markmannsgasse 7\, 50667 Köln
GEO:50.936778;6.961977
X-APPLE-STRUCTURED-LOCATION;VALUE=URI;X-ADDRESS=Markmannsgasse 7\, Köln\, 
 50667\, Frauenorganisation\, Deutschland;X-APPLE-RADIUS=100;X-TITLE=Begine
 nfenster Köln:geo:50.936778,6.961977
END:VEVENT
BEGIN:VTIMEZONE
TZID:Europe/Berlin
X-LIC-LOCATION:Europe/Berlin
BEGIN:DAYLIGHT
DTSTART:20260329T030000
TZOFFSETFROM:+0100
TZOFFSETTO:+0200
TZNAME:CEST
END:DAYLIGHT
END:VTIMEZONE
END:VCALENDAR