BEGIN:VCALENDAR
VERSION:2.0
PRODID:-//wp-events-plugin.com//7.2.3.1//EN
TZID:Europe/Berlin
X-WR-TIMEZONE:Europe/Berlin
BEGIN:VEVENT
UID:6165@frauenportal.koeln
DTSTART;TZID=Europe/Berlin:20260421T190000
DTEND;TZID=Europe/Berlin:20260421T210000
DTSTAMP:20260326T103301Z
URL:https://frauenportal.koeln/veranstaltungen/feministische-buchwoche-dr-
 alessandra-barabaschi-geheimnisse-der-virtuosinnen/
SUMMARY:Feministische Buchwoche – Dr. Alessandra Barabaschi: "Geheimnisse
  der Virtuosinnen"
DESCRIPTION:Vortrag und Lesung.\n\nWas treibt eine junge Geigerin dazu\, ge
 gen den Willen ihrer Eltern zu kämpfen? Warum opfert eine Tochter ihre Fr
 eiheit für die unerfüllten Träume ihrer Mutter? Und wie weit geht eine 
 Musikerin\, um ihren Vater zu retten? \nDie Geschichten von Teresa Milanol
 lo\, Leonora Jackson McKim und Alma Rosé zeigen\, wie familiäre Dynamike
 n im 19. und 20. Jahrhundert über Erfolg\, Scheitern und sogar Leben und 
 Tod entschieden. Diese drei Frauen stehen für mehr als nur musikalische M
 eisterleistungen. Ihre Geschichten handeln von Mut\, Opferbereitschaft und
  den unsichtbaren Fäden\, die Familie und Schicksal verweben. Sie werfen 
 Fragen auf\, die uns alle berühren: Wie viel sind wir bereit zu opfern f
 ür unsere Träume\, für unsere Lieben oder für die Erwartungen anderer?
 \n\nVeranstalterinnen:\nBücherFrauen e.V. Regionalgruppe Köln/Bonn-Rhein
 -Ruhr\, www.buecherfrauen.de\nin Kooperation mit: BeginenSalon/Beginen Kö
 ln e.V.\n\nAnsprechpartnerin:\nBarbara Fischer\, Regionalsprecherin\, E-Ma
 il: koeln-bonn@buecherfrauen.de
LOCATION:Beginenfenster Köln\, Markmannsgasse 7\, 50667 Köln
GEO:50.936778;6.961977
X-APPLE-STRUCTURED-LOCATION;VALUE=URI;X-ADDRESS=Markmannsgasse 7\, Köln\, 
 50667\, Frauenorganisation\, Deutschland;X-APPLE-RADIUS=100;X-TITLE=Begine
 nfenster Köln:geo:50.936778,6.961977
END:VEVENT
BEGIN:VTIMEZONE
TZID:Europe/Berlin
X-LIC-LOCATION:Europe/Berlin
BEGIN:DAYLIGHT
DTSTART:20260329T030000
TZOFFSETFROM:+0100
TZOFFSETTO:+0200
TZNAME:CEST
END:DAYLIGHT
END:VTIMEZONE
END:VCALENDAR