BEGIN:VCALENDAR
VERSION:2.0
PRODID:-//wp-events-plugin.com//7.2.3.1//EN
TZID:Europe/Berlin
X-WR-TIMEZONE:Europe/Berlin
BEGIN:VEVENT
UID:6166@frauenportal.koeln
DTSTART;TZID=Europe/Berlin:20260423T190000
DTEND;TZID=Europe/Berlin:20260423T210000
DTSTAMP:20260326T104111Z
URL:https://frauenportal.koeln/veranstaltungen/feministische-buchwoche-kae
 te-willems-im-gespraech-mit-morgaine-prinz-ueber-ihr-buch-madonna-mia-mode
 rne-musen-und-weibliche-wut/
SUMMARY:Feministische Buchwoche – Käte Willems im Gespräch mit Morgaine
  Prinz über ihr Buch »Madonna mia! Moderne Musen und weibliche Wut«
DESCRIPTION:Inside Poetry Slam.\n\n„Ich glaube\, wir haben wirklich grö
 ßere Probleme zu lösen als eure Probleme mit der sogenannten ‚weiblich
 en Wut‘ […]. Bitte\, Mäuschen\, lass mich wütend sein.“\n\nFür Mo
 rgaine Prinz bedeutet Feminismus\, Gleichberechtigung einzufordern und den
  Schulterschluss mit anderen Menschen\, die unter patriarchalen Strukturen
  leiden.\n\nMit "Madonna Mia! Moderne Musen & „weibliche“ Wut" verleih
 t sie genau diesem Verständnis ein künstlerisches Gewand\, und zwar getr
 eu dieser Ansicht nicht als Einzelkämpferin\, sondern in Zusammenarbeit m
 it anderen.\n\nDas Buch\, das im Nachgang an eine Ausstellung entstanden i
 st\, vereint Schrift- und Bildkunst\, Collagen\, Malereien\, Poetry-Slam-T
 exte und ein Glossar zu feministischen Schlüsselbegriffen.\n\nMorgaine Pr
 inz liest sich seit Ende 2019 mit ihren authentischen Erzählungen und pr
 äzisen Beobachtungen regelmäßig in die Herzen und vor allem unter die H
 aut ihres Publikums\, ohne dabei jedoch das Gefühl für gut platzierte Sc
 hmunzler zu vergessen. Innerhalb kürzester Zeit entwickelte sie sich zu e
 iner der gefragtesten Poetinnen des Landes und trat bereits erfolgreich be
 i einigen Meister*innenschaften an. 2023 organisierte sie die NRW-Meisters
 chaft in Krefeld und gründete das Musenkollektiv – ein queerfeministisc
 hes Veranstaltungsteam für Poetry Slam-\, Comedy- und Kleinkunst-Formate 
 in und um Düsseldorf. Seit 2020 fertigt sie außerdem analoge Collagen an
 \, die sich oft feministischen Themen widmen.\n\nMehr Infos: www.morgainep
 rinz.de\n\nKäte ist Poetryslammerin und Moderatorin aus Köln und steht s
 eit 2019 leidenschaftlich gerne auf Bühnen. Sie beschäftigt sich in ihre
 r Kunst (surprise) oft mit Themen\, die sie persönlich bewegen\, wenn sie
  nicht gerade das Bedürfnis hat ihren feministischen Senf zu gesellschaft
 spolitischen Themen zu geben. Ihre Texte sind laut\, direkt und manchmal u
 nbequem\, aber nie ohne Empathie und diese feine Prise Selbstironie. Seit 
 2023 organisiert und moderiert sie Kleinkunst-Veranstaltungen im Saarland 
 und in Köln.\n\nwww.katarina-willems.de\n\nVeranstalterinnen:\nBücherFra
 uen e.V. Regionalgruppe Köln/Bonn-Rhein-Ruhr\, www.buecherfrauen.de\nin K
 ooperation mit: \nAllerweltshaus Köln\, www.allerweltshaus.de\nVHS Köln\
 , www.koelner-vhs.de\n\nAnsprechpartnerin:\nBarbara Fischer\, Regionalspre
 cherin\, E-Mail: koeln-bonn@buecherfrauen.de\n\nKosten / Anmeldung:\nKoste
 nfrei. Anmeldung unter: koeln-bonn@buecherfrauen.de\n
LOCATION:Allerweltshaus\, Geisselstr. 3-5\, 50823 Köln
GEO:50.947052;6.920585
X-APPLE-STRUCTURED-LOCATION;VALUE=URI;X-ADDRESS=Geisselstr. 3-5\, Köln\, N
 ordrhein-Westfalen\, 50823\, Veranstaltungsort\, Deutschland;X-APPLE-RADIU
 S=100;X-TITLE=Allerweltshaus:geo:50.947052,6.920585
END:VEVENT
BEGIN:VTIMEZONE
TZID:Europe/Berlin
X-LIC-LOCATION:Europe/Berlin
BEGIN:DAYLIGHT
DTSTART:20260329T030000
TZOFFSETFROM:+0100
TZOFFSETTO:+0200
TZNAME:CEST
END:DAYLIGHT
END:VTIMEZONE
END:VCALENDAR