BEGIN:VCALENDAR
VERSION:2.0
PRODID:-//wp-events-plugin.com//7.2.3.1//EN
TZID:Europe/Berlin
X-WR-TIMEZONE:Europe/Berlin
BEGIN:VEVENT
UID:6167@frauenportal.koeln
DTSTART;TZID=Europe/Berlin:20260424T190000
DTEND;TZID=Europe/Berlin:20260424T210000
DTSTAMP:20260326T104417Z
URL:https://frauenportal.koeln/veranstaltungen/feministische-buchwoche-sop
 hie-herrndorf-gehen-wollen-bleiben-sollen/
SUMMARY:Feministische Buchwoche – Sophie Herrndorf: »Gehen wollen\, blei
 ben sollen«
DESCRIPTION:Lesung.\n\nEin politisch-poetischer Roman über lesbische Mutte
 rschaft\, Sterbebegleitung und das Ringen um Selbstbestimmung. Zwei Frauen
  suchen ihren Platz in einer Welt\, die von Erwartungen an Mütter und Tö
 chter geprägt ist. \n\nToni ist lesbisch und lebt mit ihrer Tochter Henni
  in Köln. Sie hadert mit ihrer Rolle als Mutter und sehnt sich nach ihrem
  alten Leben als Kriegsfotografin – nach Bedeutsamkeit\, Selbstbestimmun
 g und Nervenkitzel. Jetzt steht sie vor einer Entscheidung\, die alles ver
 ändern könnte. Zwischen Kind und Kamera bahnen sich Erinnerungen\, Zweif
 el und Sehnsüchte ihren Weg. Chris ist Journalistin. Kurz vor einem Ausla
 ndseinsatz erreicht sie die Nachricht\, dass ihre Mutter schwer erkrankt i
 st. Am Sterbebett kehrt sie in die Vergangenheit zurück: eine Kindheit vo
 ller Aufgaben\, eine traumatisierte Mutter\, ein abwesender Vater. Währen
 d sie den Abschied vorbereitet\, begegnet sie Steph und zum ersten Mal ent
 steht echte Nähe. \n\nSophie Herrndorf\, Lehrerin und nebenberuflich Auto
 rin\, Lesbe\, Mutter und Tochter\, präsentiert ihren dritten Roman\, der 
 im März im Querverlag erschienen ist.\n\nVeranstalterinnen:\nBücherFraue
 n e.V. Regionalgruppe Köln/Bonn-Rhein-Ruhr\, www.buecherfrauen.de\nin Koo
 peration mit: BeginenSalon/Beginen Köln e.V.\n\nAnsprechpartnerin:\nBarba
 ra Fischer\, Regionalsprecherin\, E-Mail: koeln-bonn@buecherfrauen.de
LOCATION:Beginenfenster Köln\, Markmannsgasse 7\, 50667 Köln
GEO:50.936778;6.961977
X-APPLE-STRUCTURED-LOCATION;VALUE=URI;X-ADDRESS=Markmannsgasse 7\, Köln\, 
 50667\, Frauenorganisation\, Deutschland;X-APPLE-RADIUS=100;X-TITLE=Begine
 nfenster Köln:geo:50.936778,6.961977
END:VEVENT
BEGIN:VTIMEZONE
TZID:Europe/Berlin
X-LIC-LOCATION:Europe/Berlin
BEGIN:DAYLIGHT
DTSTART:20260329T030000
TZOFFSETFROM:+0100
TZOFFSETTO:+0200
TZNAME:CEST
END:DAYLIGHT
END:VTIMEZONE
END:VCALENDAR