BEGIN:VCALENDAR
VERSION:2.0
PRODID:-//wp-events-plugin.com//7.2.3.1//EN
TZID:Europe/Berlin
X-WR-TIMEZONE:Europe/Berlin
BEGIN:VEVENT
UID:2059@frauenportal.koeln
DTSTART;TZID=Europe/Berlin:20191007T190000
DTEND;TZID=Europe/Berlin:20191007T210000
DTSTAMP:20190930T140049Z
URL:https://frauenportal.koeln/veranstaltungen/feministischer-salon-femini
 smus-gestern-heute/
SUMMARY:Feministischer Salon: Feminismus gestern & heute
DESCRIPTION:Kontinuität der Diskontinuitäten – Feministische Kämpfe ge
 stern und heute.\n\nFeminist*innen der jüngeren Generation sehen sich geg
 enwärtig immer wieder mit dem Vorwurf konfrontiert\, dass sie stärker ge
 geneinander als für die gemeinsame Sache kämpfen. Doch seit jeher ist de
 r Kampf für Gleichberechtigung von Unstimmigkeiten und gegensätzlichen P
 ositionen durchzogen. \n\nIn diesem Vortrag soll ein Blick auf die Kämpfe
  in der Vergangenheit geworfen und ein Bogen zu aktuellen Forderungen und 
 Debatten gespannt werden. Begriffe wie Intersektionalität und Queer solle
 n beleuchtet werden\, um im Anschluss gemeinsam darüber zu diskutieren\, 
 ob ein breites feministisches Engagement möglich ist bzw. möglich sein m
 uss. \n\nEin Abend mit neuen und alten Thesen\, unbekannten Blickwinkeln u
 nd einer spannende Diskussion.\n\nIm Anschluss gibt es Sekt\, Selters und 
 Kölsch.\n\nReferentin:\nLaura Chlebos\, Soziologin\, Gründerin Feminismu
 s im Pott\, www.feminismus-im-pott.de\n\nVeranstalterin:\nFrauenberatungsz
 entrum Köln e.V.\n\nKontakt:\nTel.: 0221 / 420 16 20\, E-Mail: info@fraue
 nberatungszentrum-koeln.de\n\nVeranstaltungsort:\nFrauenberatungszentrum\,
  Friesenplatz 9\, 50672 Köln\, [map id=895]
END:VEVENT
BEGIN:VTIMEZONE
TZID:Europe/Berlin
X-LIC-LOCATION:Europe/Berlin
BEGIN:DAYLIGHT
DTSTART:20190331T030000
TZOFFSETFROM:+0100
TZOFFSETTO:+0200
TZNAME:CEST
END:DAYLIGHT
END:VTIMEZONE
END:VCALENDAR