BEGIN:VCALENDAR
VERSION:2.0
PRODID:-//wp-events-plugin.com//7.2.3.1//EN
TZID:Europe/Berlin
X-WR-TIMEZONE:Europe/Berlin
BEGIN:VEVENT
UID:2862@frauenportal.koeln
DTSTART;TZID=Europe/Berlin:20201005T190000
DTEND;TZID=Europe/Berlin:20201005T210000
DTSTAMP:20200930T123257Z
URL:https://frauenportal.koeln/veranstaltungen/feministischer-salon-femini
 smus-im-sport/
SUMMARY:Feministischer Salon: Feminismus im Sport
DESCRIPTION:// Zwischen Klischee und Höchstleistung: Frauen im Sport //\n\
 nWenn über Sport berichtet wird\, werden gerne die positiven Aspekte wie 
 die Förderung der Gesundheit und seine integrative Kraft in den Fokus ges
 tellt. Mittlerweile rücken jedoch auch vermehrt negative Gesichtspunkte w
 ie z.B. Doping und Fankrawalle in den Vordergrund. Worüber jedoch kaum be
 richtet und debattiert wird: Frauen im Sport – und zwar weder über die 
 Erfolge noch die Probleme. Doch die geringe Zahl von Frauen in Führungspo
 sitionen im Sport\, der Mangel an Trainer*innen\, die sowohl quantitativ a
 ls auch qualitativ fragwürdige Berichterstattung sowie verhärtete Klisch
 ees sind nur einige Beispiele\, die zeigen: Gesprächspotenzial gibt es al
 lemal und Lösungsansätze sind nach wie vor rar. Höchste Zeit\, dies zu 
 ändern!\n\nEin Abend mit neuen und alten Thesen\, unbekannten Blickwinkel
 n und einer spannende Diskussion.\n\nIm Anschluss gibt es Sekt\, Selters u
 nd Kölsch.\n\nReferentin:\nLisa Steffny\, Gründerin des Sportblogs „Fa
 n von DIR“\, https://fanvondir.de\n\nVeranstalterin:\nFrauenberatungszen
 trum Köln e.V.\nSitzplätze mit vorgeschriebenem Abstand vorhanden!\n\nKo
 ntakt:\nTel.: 0221 / 420 16 20\, E-Mail: info@frauenberatungszentrum-koeln
 .de\n\nVeranstaltungsort:\nHalle Zollstock\, Gottesweg 79\, 50969 Köln\, 
 [map id=16022]
END:VEVENT
BEGIN:VTIMEZONE
TZID:Europe/Berlin
X-LIC-LOCATION:Europe/Berlin
BEGIN:DAYLIGHT
DTSTART:20200329T030000
TZOFFSETFROM:+0100
TZOFFSETTO:+0200
TZNAME:CEST
END:DAYLIGHT
END:VTIMEZONE
END:VCALENDAR