BEGIN:VCALENDAR
VERSION:2.0
PRODID:-//wp-events-plugin.com//7.2.3.1//EN
TZID:Europe/Berlin
X-WR-TIMEZONE:Europe/Berlin
BEGIN:VEVENT
UID:3721@frauenportal.koeln
DTSTART;TZID=Europe/Berlin:20220425T190000
DTEND;TZID=Europe/Berlin:20220425T210000
DTSTAMP:20220429T131026Z
URL:https://frauenportal.koeln/veranstaltungen/feministischer-salon-femini
 stische-aussenpolitik/
SUMMARY:Feministischer Salon: Feministische Außenpolitik
DESCRIPTION:– Das Ende des "Old Boys Network"? - Feministische Außenpoli
 tik wagen –\n\n"[...] und deswegen gehört zu einer Sicherheitspolitik d
 es 21. Jahrhunderts auch eine feministische Sichtweise."\n(Annalena Bearbo
 ck am 23.03.22 vor dem Deutschen Bundestag)\n\nAls erste Außenministerin 
 Deutschlands muss Annalena Baerbock vor dem Bundestag immer wieder rechtfe
 rtigen\, was bereits im Koalitionsvertrag festgehalten wurde: der „Einsa
 tz für Frieden\, Freiheit\, Menschenrechte“ als wichtiger Bestandteil d
 eutscher und europäischer Außenpolitik.\n\nDoch was ist feministische Au
 ßenpolitik? Ist eine Politik\, die Menschenrechte über nationale Interes
 sen stellt\, überhaupt möglich?\nDiese und weitere Fragen sollen der Pol
 itikwissenschaftlerin Miriam Mukalazi gestellt werden.\n\nDer Salon ist ei
 n Raum um zu lernen\, nachzudenken\, zu diskutieren und einen Blick auf di
 e aktuellen feministischen Diskurse und Kontroversen in den Bewegungen zu 
 werfen. Im Anschluss gibt es Sekt und Selters.\n\nVeranstalterin:\nFrauenb
 eratungszentrum Köln e.V.\n\nKontakt:\nTel.: 0221 / 420 16 20\, E-Mail: i
 nfo@frauenberatungszentrum-koeln.de\n\nKosten / Anmeldung:\nEintritt frei.
 \n\nVeranstaltungsort:\nFrauenberatungszentrum\, Friesenplatz 9\, 50672 K
 öln\, [map id=895]
END:VEVENT
BEGIN:VTIMEZONE
TZID:Europe/Berlin
X-LIC-LOCATION:Europe/Berlin
BEGIN:DAYLIGHT
DTSTART:20220327T030000
TZOFFSETFROM:+0100
TZOFFSETTO:+0200
TZNAME:CEST
END:DAYLIGHT
END:VTIMEZONE
END:VCALENDAR