BEGIN:VCALENDAR
VERSION:2.0
PRODID:-//wp-events-plugin.com//7.2.3.1//EN
TZID:Europe/Berlin
X-WR-TIMEZONE:Europe/Berlin
BEGIN:VEVENT
UID:5166@frauenportal.koeln
DTSTART;TZID=Europe/Berlin:20240930T190000
DTEND;TZID=Europe/Berlin:20240930T210000
DTSTAMP:20240828T142743Z
URL:https://frauenportal.koeln/veranstaltungen/feministischer-salon-lektio
 nen-des-schwarzen-feminismus/
SUMMARY:Feministischer Salon: Lektionen des Schwarzen Feminismus
DESCRIPTION:– Radikale Machtkritik\, soziale Gerechtigkeit\, Revolution 
 –\n\nSchwarzer Feminismus ist eine entscheidende Bewegung im Kampf für 
 Gerechtigkeit\, da dieser Feminismus u.a. anerkennt\, dass verschiedene Di
 skriminierungsformen wie race\, class und gender untrennbar miteinander ve
 rbunden sind. Er betont deshalb die Notwendigkeit revolutionärer Ansätze
 \, die Macht und Herrschaftssysteme immer wieder herausfordern.\n\nInnerha
 lb des Vortrages wird ein kurzer historischer Überblick über die Entwick
 lung des Schwarzen Feminismus geboten\, von seinen Ursprüngen in den USA 
 bis hin zu seiner globalen Bedeutung. Des Weiteren wird beleuchtet\, wie d
 er Schwarze Feminismus bestehende Machtstrukturen kritisiert und aktuelle 
 Strategien für sozialen Wandel formuliert. Dabei wird hervorgehoben\, das
 s dieser Feminismus entscheidend für die gesamte Gesellschaft ist. Nicht 
 nur für die Emanzipation von Schwarzen Frauen\, sondern für alle. \n\nTa
 rah Truderung (Bildungsreferentin / Sozialarbeiterin / Sozialwissenschaftl
 erin) regt einen Austausch über aktuelle Potenziale und Herausforderungen
  des Schwarzen Feminismus an\, in dem auch über Solidarität und gemeinsa
 me Aktionen gesprochen werden kann.\n\nDer Salon ist ein Raum für neue un
 d alte Thesen\, unbekannte Blickwinkel. Im Anschluss gibt es Sekt und Selt
 ers.\n\nVeranstalterin:\nFrauenberatungszentrum Köln e.V.\n\nKontakt:\nTe
 l.: 0221 / 420 16 20\, E-Mail: info@frauenberatungszentrum-koeln.de\n\nKos
 ten / Anmeldung:\nEintritt frei. 
LOCATION:Frauenberatungszentrum Köln\, Friesenplatz 9\, 50672 Köln
GEO:50.9404;6.93902
X-APPLE-STRUCTURED-LOCATION;VALUE=URI;X-ADDRESS=Friesenplatz 9\, Köln\, 50
 672\, Frauenorganisation\, Deutschland;X-APPLE-RADIUS=100;X-TITLE=Frauenbe
 ratungszentrum Köln:geo:50.9404,6.93902
END:VEVENT
BEGIN:VTIMEZONE
TZID:Europe/Berlin
X-LIC-LOCATION:Europe/Berlin
BEGIN:DAYLIGHT
DTSTART:20240331T030000
TZOFFSETFROM:+0100
TZOFFSETTO:+0200
TZNAME:CEST
END:DAYLIGHT
END:VTIMEZONE
END:VCALENDAR