BEGIN:VCALENDAR
VERSION:2.0
PRODID:-//wp-events-plugin.com//7.2.3.1//EN
TZID:Europe/Berlin
X-WR-TIMEZONE:Europe/Berlin
BEGIN:VEVENT
UID:2084@frauenportal.koeln
DTSTART;TZID=Europe/Berlin:20191110T110000
DTEND;TZID=Europe/Berlin:20191110T180000
DTSTAMP:20190903T101121Z
URL:https://frauenportal.koeln/veranstaltungen/femme-total-ladies-lounge-2
 /
SUMMARY:Femme-Total Ladies-Lounge
DESCRIPTION:Von Frauen für Frauen – so bunt und vielfältig wie das Lebe
 n!\nDie inspirierende Messe für Körper Seele Geist – kreativ • innov
 ativ • beratend.\n\nDieses Jahr im Bürgerzentrum Ehrenfeld (BÜZE)\, Ve
 nloer Str. 429\, 50825 Köln.\n\nSchirmherrin ist auch dieses Jahr wieder 
 Oberbürgermeisterin Henriette Reker\, sie wird die Messe mit einem Grußw
 ort eröffnen.\n\nAus der Einladung:\n"Zum 8. Mal findet die Ladies Lounge
  des Femme total e.V. Frauennetzwerk Köln statt. Eine inspirierende Messe
  mit Ausstellerinnen aus den unterschiedlichsten Bereichen zu den Themen K
 örperarbeit\, Beratung und Coaching\, Spiritualität\, Finanzen\, persön
 liche Weiterentwicklung\, Selbständigkeit und Existenzgründung. Die viel
 fältige Zusammenstellung der Ausstellerinnen wird duch ein reiches Vortra
 gsangebot\, welches im Ticketpreis enthalten ist\, und durch Anwendungen o
 der Beratungen an den einzelnen Ständen zum Vorzugspreis erweitert. Die B
 ons dafür sind an der Tageskasse für 5\,00 € das Stück erhältlich. F
 ür das leibliche Wohl sorgt die Gastronomie des Bürgerzentrum BÜZE. Die
  Mitglieder von Femme total e.V. und Ausstellerinnen freuen sich auf einen
  Besuch an ihren Ständen. Und ja\, auch Männer sind herzlich Willkommen!
 "\n\nEintritt: im Vorverkauf über Eventbrite 10\,00 € Earlybird bis 01.
 09.2019\, danach 12\,50 € und an der Tageskasse 15\,00 € – inklusive
  Vortragsprogramm.\nAnwendung/Beratung: 5\,00 € – Bons an der Kasse.\n
 \nKontakt und Fragen zur Ladies Lounge: Elinor Maiß und Ulrike Siedler\nE
 -Mail: ladieslounge@femmetotal.de\n\nVeranstalterinnen: FEMME TOTAL Netzwe
 rk
END:VEVENT
BEGIN:VTIMEZONE
TZID:Europe/Berlin
X-LIC-LOCATION:Europe/Berlin
BEGIN:STANDARD
DTSTART:20191027T020000
TZOFFSETFROM:+0200
TZOFFSETTO:+0100
TZNAME:CET
END:STANDARD
END:VTIMEZONE
END:VCALENDAR