BEGIN:VCALENDAR
VERSION:2.0
PRODID:-//wp-events-plugin.com//7.2.3.1//EN
TZID:Europe/Berlin
X-WR-TIMEZONE:Europe/Berlin
BEGIN:VEVENT
UID:4275@frauenportal.koeln
DTSTART;TZID=Europe/Berlin:20230902T100000
DTEND;TZID=Europe/Berlin:20230902T180000
DTSTAMP:20230825T150609Z
URL:https://frauenportal.koeln/veranstaltungen/femme-total-ladies-lounge-3
 /
SUMMARY:Abgesagt: Femme-Total Ladies-Lounge
DESCRIPTION:Der Termin findet nicht statt.Die inspirierende Messe für Kör
 per\, Seele\, Geist.\n\nZum neunten Mal veranstaltet das Frauennetzwerk Fe
 mme Total e.V. die Ladies Lounge. Im Bürgerhaus Stollwerck erwartet die B
 esucherinnen und Besucher ein buntes und vielfältiges Programm zu den The
 men Gesundheit\, Selbstständigkeit\, Finanzen\, Kunst\, Handwerk\, Coachi
 ng und Kreatives.\n\nEin guter Ort\, um Ideen für die berufliche wie auch
  private Weiterentwicklung zu sammeln\, das Netzwerk kennen zu lernen und 
 sich mit anderen zu vernetzen.\n\nZahlreiche Stände laden zum Mitmachen e
 in - von Massagen bis hin zu Kurzberatung zum Thema Astrologie\, für jede
 n Geschmack ist etwas dabei.\n\nErgänzt wird das Angebot mit spannenden F
 achvorträgen und auch für das leibliche Wohl ist gesorgt.\n\nKontakt:\nK
 atrin Lübeck\, E-Mail: ladieslounge@femmetotal.de\n\nVeranstalterinnen: F
 EMME TOTAL Netzwerk\n\nEintritt: 12\,50 € (www.eventbrite.de/e/ladies-lo
 unge-die-messe-tickets-684698821607)
END:VEVENT
BEGIN:VTIMEZONE
TZID:Europe/Berlin
X-LIC-LOCATION:Europe/Berlin
BEGIN:DAYLIGHT
DTSTART:20230326T030000
TZOFFSETFROM:+0100
TZOFFSETTO:+0200
TZNAME:CEST
END:DAYLIGHT
END:VTIMEZONE
END:VCALENDAR