BEGIN:VCALENDAR
VERSION:2.0
PRODID:-//wp-events-plugin.com//7.2.3.1//EN
TZID:Europe/Berlin
X-WR-TIMEZONE:Europe/Berlin
BEGIN:VEVENT
UID:852@frauenportal.koeln
DTSTART;TZID=Europe/Berlin:20180311T100000
DTEND;TZID=Europe/Berlin:20180311T180000
DTSTAMP:20180428T064430Z
URL:https://frauenportal.koeln/veranstaltungen/femme-total-ladies-lounge/
SUMMARY:Femme-Total Ladies-Lounge
DESCRIPTION:Die Messe von Frauen für Frauen – Beratung und Inspiration! 
 \nDieses Jahr im Bürgerhaus Stollwerck\, Dreiköniginstr. 23\, 50678 Kö
 ln\n\nEs gibt einen Saal für ca. 60 Ausstellerinnen\, die auch Kurzberatu
 ngen (5 €\, Bonverkauf) geben\, die Empore wird für die kreativen Angeb
 ote genutzt und in den oberen Stockwerken geht es um Entspannung und (Kör
 per-)Therapie. Dazu finden in 4 Räumen kostenlose Vorträge statt.\n\nLad
 iesLounge Programm 2018 (pdf-Datei\, 5 MB)\n\nKontakt und Fragen zur Ladie
 s Lounge: Marianne Quast\, E-Mail: ladieslounge@femmetotal.de\n\nVeranstal
 terinnen: FEMME TOTAL Netzwerk
END:VEVENT
BEGIN:VTIMEZONE
TZID:Europe/Berlin
X-LIC-LOCATION:Europe/Berlin
BEGIN:STANDARD
DTSTART:20171029T020000
TZOFFSETFROM:+0200
TZOFFSETTO:+0100
TZNAME:CET
END:STANDARD
END:VTIMEZONE
END:VCALENDAR