BEGIN:VCALENDAR
VERSION:2.0
PRODID:-//wp-events-plugin.com//7.2.3.1//EN
TZID:Europe/Berlin
X-WR-TIMEZONE:Europe/Berlin
BEGIN:VEVENT
UID:5270@frauenportal.koeln
DTSTART;TZID=Europe/Berlin:20250103T160000
DTEND;TZID=Europe/Berlin:20250103T180000
DTSTAMP:20241202T110855Z
URL:https://frauenportal.koeln/veranstaltungen/femme-total-neujahrsempfang
 -2025/
SUMMARY:Femme Total Neujahrsempfang 2025
DESCRIPTION:Das Neue Jahr wird gebührend gefeiert :-)\n\nEs wird angestoß
 en auf wunderbare Neuanfänge – mit einer Champagnerpyramide!\n\nAnmeldu
 ng:\nAnmeldung bitte per Mail an post@die-paarcouch.de\n\nWeitere Informat
 ionen:\nEliana Moravia\, E-Mail: eliana@moraviaart.com\n\nVeranstalterinn
 en:\nFEMME TOTAL Netzwerk
LOCATION:Die Paarcouch | Doris Spindler\, Wilhelmstr. 4\, 50733 Köln
GEO:50.963444;6.958139
X-APPLE-STRUCTURED-LOCATION;VALUE=URI;X-ADDRESS=Wilhelmstr. 4\, Köln\, 507
 33\, Unternehmerin\, Deutschland;X-APPLE-RADIUS=100;X-TITLE=Die Paarcouch 
 | Doris Spindler:geo:50.963444,6.958139
END:VEVENT
BEGIN:VTIMEZONE
TZID:Europe/Berlin
X-LIC-LOCATION:Europe/Berlin
BEGIN:STANDARD
DTSTART:20241027T020000
TZOFFSETFROM:+0200
TZOFFSETTO:+0100
TZNAME:CET
END:STANDARD
END:VTIMEZONE
END:VCALENDAR