BEGIN:VCALENDAR
VERSION:2.0
PRODID:-//wp-events-plugin.com//7.2.3.1//EN
TZID:Europe/Berlin
X-WR-TIMEZONE:Europe/Berlin
BEGIN:VEVENT
UID:5840@frauenportal.koeln
DTSTART;TZID=Europe/Berlin:20251127T160000
DTEND;TZID=Europe/Berlin:20251127T190000
DTSTAMP:20251031T143136Z
URL:https://frauenportal.koeln/veranstaltungen/femmes-do-together-coaching
 -lounge/
SUMMARY:Femmes-Do-Together / Coaching-Lounge
DESCRIPTION:Aus der Einladung:\n\n"Wir üben spielerisch\, wie erstaunlich 
 effektiv Kurz-Coaching im gegenseitigen Austausch sein kann. Diese lebendi
 ge Energie wollen wir wieder spüren!\n\nBitte melde dich bis 1 Tag vorher
  an bei Jenison unter: info@nlp-atelier.de\n\nWir freuen uns auf euch! Fü
 r Snacks & Co bitten wir um 12 € Beitrag zur Verpflegung."\n\nAnmeldung:
 \nAnmeldung bitte bei Jenison Thomkins: info@nlp-atelier.de\n\nWeitere Inf
 ormationen:\nEliana Moravia\, E-Mail: eliana@moraviaart.com\n\nVeranstalt
 erinnen:\nFEMME TOTAL Netzwerk\n\nVeranstaltungsort:\nJenison Thomkins\, 
 Aachener Str. 7\, 50674 Köln
END:VEVENT
BEGIN:VTIMEZONE
TZID:Europe/Berlin
X-LIC-LOCATION:Europe/Berlin
BEGIN:STANDARD
DTSTART:20251026T020000
TZOFFSETFROM:+0200
TZOFFSETTO:+0100
TZNAME:CET
END:STANDARD
END:VTIMEZONE
END:VCALENDAR