BEGIN:VCALENDAR
VERSION:2.0
PRODID:-//wp-events-plugin.com//7.2.3.1//EN
TZID:Europe/Berlin
X-WR-TIMEZONE:Europe/Berlin
BEGIN:VEVENT
UID:2143@frauenportal.koeln
DTSTART;TZID=Europe/Berlin:20200529T100000
DTEND;TZID=Europe/Berlin:20200529T130000
DTSTAMP:20200529T103753Z
URL:https://frauenportal.koeln/veranstaltungen/femmestogether-2020-05-29/
SUMMARY:femmes­together
DESCRIPTION:Der Termin findet nur für Mitfemmes als Video-Konferenz statt.
 \n\nJeden letzten Freitagvormittag im Monat treffen sich die femmes zur gr
 oßen Vorstellungs- und Klüngelrunde und spenden sich gegenseitig Klünge
 l-Gutscheine\, um sich anschließend zu besuchen und bei Massage\, Beratun
 g oder sonstigen Angeboten die Potentiale der Anderen kennenzulernen. Mott
 o: „Wenn wir uns kennen\, können wir uns auch empfehlen.“\n\nAnmeldun
 g / Kosten:\nKostenbeitrag für kleinen Snack\, Kaffee\, Tee und Organisat
 ion: 15 Euro\, 12 Euro für Vereinsmitglieder. Um Anmeldung wird gebeten b
 is drei Tage vorher (wg. Einkauf und Platzreservierung).\n\nWeitere Inform
 ationen:\nJenison Thomkins\, Tel.: 0221 / 520 767\nE-Mail: info@femmetota
 l.de\n\nVeranstalterinnen:\nFEMME TOTAL Netzwerk\n\nVeranstaltungsort:\nA
 telier für NLP\, Bismarckstr. 50\, 50672 Köln\, [map id=928]
END:VEVENT
BEGIN:VTIMEZONE
TZID:Europe/Berlin
X-LIC-LOCATION:Europe/Berlin
BEGIN:DAYLIGHT
DTSTART:20200329T030000
TZOFFSETFROM:+0100
TZOFFSETTO:+0200
TZNAME:CEST
END:DAYLIGHT
END:VTIMEZONE
END:VCALENDAR