BEGIN:VCALENDAR
VERSION:2.0
PRODID:-//wp-events-plugin.com//7.2.3.1//EN
TZID:Europe/Berlin
X-WR-TIMEZONE:Europe/Berlin
BEGIN:VEVENT
UID:2147@frauenportal.koeln
DTSTART;TZID=Europe/Berlin:20200925T100000
DTEND;TZID=Europe/Berlin:20200925T130000
DTSTAMP:20200815T133952Z
URL:https://frauenportal.koeln/veranstaltungen/femmestogether-2020-09-25/
SUMMARY:femmes­together online
DESCRIPTION:Jeden letzten Freitagvormittag im Monat treffen sich die femmes
  zur großen Vorstellungs- und Klüngelrunde und spenden sich gegenseitig 
 Klüngel-Gutscheine\, um sich anschließend zu besuchen und bei Massage\, 
 Beratung oder sonstigen Angeboten die Potentiale der Anderen kennenzulerne
 n. Motto: „Wenn wir uns kennen\, können wir uns auch empfehlen.“\n\nA
 nmeldung / Kosten:\nKostenbeitrag: 11 Euro\, 8 Euro für Vereinsmitglieder
 . Hier sind die Anmeldelinks:\nwww.eventbrite.de/x/femmetogether-fur-mitfe
 mmes-september-tickets-117016823469\nwww.eventbrite.de/x/femmetogether-fur
 -gastinnen-september-tickets-117017044129\n'Einlass' ist ab 9.50 Uhr.\n\nW
 eitere Informationen:\nJenison Thomkins\, Tel.: 0221 / 520 767\nE-Mail: in
 fo@femmetotal.de\n\nVeranstalterinnen:\nFEMME TOTAL Netzwerk\n\nVeranstalt
 ungsort:\nonline
END:VEVENT
BEGIN:VTIMEZONE
TZID:Europe/Berlin
X-LIC-LOCATION:Europe/Berlin
BEGIN:DAYLIGHT
DTSTART:20200329T030000
TZOFFSETFROM:+0100
TZOFFSETTO:+0200
TZNAME:CEST
END:DAYLIGHT
END:VTIMEZONE
END:VCALENDAR