BEGIN:VCALENDAR
VERSION:2.0
PRODID:-//wp-events-plugin.com//7.2.3.1//EN
TZID:Europe/Berlin
X-WR-TIMEZONE:Europe/Berlin
BEGIN:VEVENT
UID:2149@frauenportal.koeln
DTSTART;TZID=Europe/Berlin:20201127T100000
DTEND;TZID=Europe/Berlin:20201127T130000
DTSTAMP:20201031T145235Z
URL:https://frauenportal.koeln/veranstaltungen/femmestogether-2020-11-27/
SUMMARY:femmes­together online
DESCRIPTION:Jeden letzten Freitagvormittag im Monat treffen sich die femmes
  zur großen Vorstellungs- und Klüngelrunde und spenden sich gegenseitig 
 Klüngel-Gutscheine\, um sich anschließend zu besuchen und bei Massage\, 
 Beratung oder sonstigen Angeboten die Potentiale der Anderen kennenzulerne
 n. Motto: „Wenn wir uns kennen\, können wir uns auch empfehlen.“\n\nA
 nmeldung / Kosten:\nKostenbeitrag: 11 Euro\, 8 Euro für Vereinsmitglieder
 . Hier sind die Anmeldelinks:\nwww.eventbrite.de/x/femmetogether-im-novemb
 er-fur-mitfemmes-tickets-124993977351\nwww.eventbrite.de/x/femmetogether-i
 m-november-fur-gastinnen-tickets-124998520941\n‚Einlass‘ ist ab 9.50 U
 hr.\n\nWeitere Informationen:\nJenison Thomkins\, Tel.: 0221 / 520 767\nE-
 Mail: info@femmetotal.de\n\nVeranstalterinnen:\nFEMME TOTAL Netzwerk\n\n
 Veranstaltungsort:\nonline
END:VEVENT
BEGIN:VTIMEZONE
TZID:Europe/Berlin
X-LIC-LOCATION:Europe/Berlin
BEGIN:STANDARD
DTSTART:20201025T020000
TZOFFSETFROM:+0200
TZOFFSETTO:+0100
TZNAME:CET
END:STANDARD
END:VTIMEZONE
END:VCALENDAR