BEGIN:VCALENDAR
VERSION:2.0
PRODID:-//wp-events-plugin.com//7.2.3.1//EN
TZID:Europe/Berlin
X-WR-TIMEZONE:Europe/Berlin
BEGIN:VEVENT
UID:4175@frauenportal.koeln
DTSTART;TZID=Europe/Berlin:20230113T160000
DTEND;TZID=Europe/Berlin:20230113T190000
DTSTAMP:20221230T102348Z
URL:https://frauenportal.koeln/veranstaltungen/femmetotal-jahresauftakt-ge
 meinsam-ins-neue-jahr/
SUMMARY:FemmeTotal-Jahresauftakt: Gemeinsam ins neue Jahr
DESCRIPTION:Im Tor 28\, Raum Sequoia\, gibt es Gelegenheit\, das Netzwerk k
 ennen zu lernen und das neue Jahr bemeinsam zu begrüßen. \n\nVeranstalte
 rinnen:\nFEMME TOTAL Netzwerk\n\nKontakt:\nKatrin Lübeck\, E-Mail: info@
 femmetotal.de\n\nAnmeldung:\nBitte anmelden unter info@femmetotal.de
LOCATION:Tor 28\, Machabäerstr. 28\, 50668 Köln
GEO:50.946454;6.958238
X-APPLE-STRUCTURED-LOCATION;VALUE=URI;X-ADDRESS=Machabäerstr. 28\, Köln\,
  50668\, Veranstaltungsort\, Deutschland;X-APPLE-RADIUS=100;X-TITLE=Tor 28
 :geo:50.946454,6.958238
END:VEVENT
BEGIN:VTIMEZONE
TZID:Europe/Berlin
X-LIC-LOCATION:Europe/Berlin
BEGIN:STANDARD
DTSTART:20221030T020000
TZOFFSETFROM:+0200
TZOFFSETTO:+0100
TZNAME:CET
END:STANDARD
END:VTIMEZONE
END:VCALENDAR