BEGIN:VCALENDAR
VERSION:2.0
PRODID:-//wp-events-plugin.com//7.2.3.1//EN
TZID:Europe/Berlin
X-WR-TIMEZONE:Europe/Berlin
BEGIN:VEVENT
UID:4470@frauenportal.koeln
DTSTART;TZID=Europe/Berlin:20231210T100000
DTEND;TZID=Europe/Berlin:20231210T170000
DTSTAMP:20231130T151527Z
URL:https://frauenportal.koeln/veranstaltungen/fghanistan-womens-voices-3/
SUMMARY:Afghanistan – Women’s Voices 3
DESCRIPTION:– Film- und Diskussionsveranstaltung –\n\nVor zwei Jahren\,
  als Reaktion auf die Machtübernahme der Taliban in Afghanistan\, veranst
 altete LaDOC einen Film- und Informationstag zur dramatischen Lage der Fra
 uen in Afghanistan.\n\nAuf Initiative und mit Unterstützung der teilnehme
 nden Regisseurin Sahra Mani unternahm in der Folge eine kleine Gruppe von 
 LaDOC-Frauen ganz konkrete Schritte: Sie riefen eine Spendenaktion ins Leb
 en\, um Frauen vor Ort mit Lebensmitteln zu unterstützen. Diese Spendenak
 tion läuft bis heute erfolgreich. LaDOC konnte vielen Menschen vor Ort he
 lfen.\n\nZwei Jahre später leben Frauen in Afghanistan weiterhin rechtlos
 \, in Armut und Angst. Erneut soll der Blick mit großer Dringlichkeit auf
  diese Frauen gerichtet und berichtet werden\, wie das Engagement von LaDO
 C – wenn auch in kleinem Umfang – konkrete Ergebnisse zeigt.\n\nMit zw
 ei Filmen und einer anschließenden Gesprächsrunde mit Razia Bromand\, ei
 ner Frauenrechtlerin aus Afghanistan\, deren Flucht mit Hilfe von LaDOC un
 d der Initiative Kabul Luftbrücke gelang\, lädt LaDOC ein\, den afghanis
 chen Frauen zuzuhören und die Situation vor Ort aus erster Hand kennenzul
 ernen.\n\nHier ist die Einladung mit Programm: Afghanistan – Women’s V
 oices 3 (pdf-Datei\, 322 KB)\n\nVeranstalterin:\nLaDOC FILMNETZWERK\, www.
 ladoc.de\n\nAnsprechpartnerin:\nClaudia Richarz\, Tel.: 0221 / 2220 4122\,
  E-Mail: info@ladoc.de\n\nKosten / Anmeldung:\nTICKET: 12 € / erm. 6 €
  (Filme\, Diskussion\, Snack). Ermäßigte Tickets nur gegen Vorlage der E
 rmäßigungsberechtigung direkt an der Kinokasse.\nReservierung dafür sin
 d möglich unter: kino@filmhaus-koeln.de\nOnline-Ticket: 9 € / ermäßig
 t 4\,50 € (50% gehen an die Spendenaktion Afghanistan)\nAnmeldung für d
 ie Online-Teilnahme: info@ladoc.de\n\nVeranstaltungsort:\nFilmhaus Köln U
 ND online
LOCATION:Filmhaus Köln\, Maybachstr. 111\, 50670 Köln
GEO:50.949007;6.94952
X-APPLE-STRUCTURED-LOCATION;VALUE=URI;X-ADDRESS=Maybachstr. 111\, Köln\, 5
 0670\, Veranstaltungsort\, Deutschland;X-APPLE-RADIUS=100;X-TITLE=Filmhaus
  Köln:geo:50.949007,6.94952
END:VEVENT
BEGIN:VTIMEZONE
TZID:Europe/Berlin
X-LIC-LOCATION:Europe/Berlin
BEGIN:STANDARD
DTSTART:20231029T020000
TZOFFSETFROM:+0200
TZOFFSETTO:+0100
TZNAME:CET
END:STANDARD
END:VTIMEZONE
END:VCALENDAR