BEGIN:VCALENDAR
VERSION:2.0
PRODID:-//wp-events-plugin.com//7.2.3.1//EN
TZID:Europe/Berlin
X-WR-TIMEZONE:Europe/Berlin
BEGIN:VEVENT
UID:3961@frauenportal.koeln
DTSTART;TZID=Europe/Berlin:20221215T173000
DTEND;TZID=Europe/Berlin:20221215T203000
DTSTAMP:20221215T142402Z
URL:https://frauenportal.koeln/veranstaltungen/film-gespraech-die-unbeugsa
 men/
SUMMARY:Film & Gespräch "Die Unbeugsamen"
DESCRIPTION:Der Film erzählt die Geschichte der politischen Pionierinnen i
 n der männerdominierten Bonner Republik von den 50er Jahren bis zur Wiede
 rvereinigung. Neben historischen Archiv-Ausschnitten kommen Politikerinnen
  von damals heute zu Wort. Ihre Erinnerungen sind gleichzeitig komisch\, a
 bsurd\, bitter und erschreckend aktuell.\n\nZum gemeinsamen Gespräch habe
 n aktive Politikerinnen ihre Teilnahme zugesagt.\n\nHier ist die Einladung
 : Die Unbeugsamen_15.12.2022 (pdf-Datei\,334 KB)\n\nVeranstalterin:\nFraue
 nreferat und Frauenbeauftragte der Ev. Kirche in Köln\n\nAnsprechpartneri
 nnen:\nUte Verch\, Referentin im Referat für Jugend\, Frauen und Männer 
 des Kirchenkreises Köln-Rechtsrheinisch\, Tel.: 0221/  278561-93\, E-Mail
 : verch@kirche-koeln.de\n\nKosten / Anmeldung:\nTeilnahmeentgelt: 10 € (
 inkl. alkoholfreier Sektempfang und Popcorn)\nReservierung telefonisch unt
 er 0221-29 49 49 79 (während der Kinoöffnungszeiten) \noder Online-Ticke
 ting unter  www.lichtspiele-kalk.de/programm/ \noder vor Ort  im Kino
LOCATION:Lichtspiele Kalk\, Kalk-Mülheimer Str. 130/132\, 51103 Köln
GEO:50.942759;7.001688
X-APPLE-STRUCTURED-LOCATION;VALUE=URI;X-ADDRESS=Kalk-Mülheimer Str. 130/13
 2\, Köln\, 51103\, Veranstaltungsort\, Deutschland;X-APPLE-RADIUS=100;X-T
 ITLE=Lichtspiele Kalk:geo:50.942759,7.001688
END:VEVENT
BEGIN:VTIMEZONE
TZID:Europe/Berlin
X-LIC-LOCATION:Europe/Berlin
BEGIN:STANDARD
DTSTART:20221030T020000
TZOFFSETFROM:+0200
TZOFFSETTO:+0100
TZNAME:CET
END:STANDARD
END:VTIMEZONE
END:VCALENDAR