BEGIN:VCALENDAR
VERSION:2.0
PRODID:-//wp-events-plugin.com//7.2.3.1//EN
TZID:Europe/Berlin
X-WR-TIMEZONE:Europe/Berlin
BEGIN:VEVENT
UID:1104@frauenportal.koeln
DTSTART;TZID=Europe/Berlin:20180512T150000
DTEND;TZID=Europe/Berlin:20180512T170000
DTSTAMP:20180430T232905Z
URL:https://frauenportal.koeln/veranstaltungen/film-und-sie-schaute-mir-di
 rekt-ins-herz-frauenschicksale-in-indien/
SUMMARY:Film „… und sie schaute mir direkt ins Herz“ Frauenschicksale
  in Indien
DESCRIPTION:Anna Etter berichtet anhand dieses Films von ihren Erlebnissen 
 in Indien/Tamil Nadu.\n3 indische Frauen\, begleitet von ihren Kindern\, b
 eschreiben in diesem Film ihre Lebensssituation in der Umgebung von Tiruva
 nnamalai in Südindien.\nParallel zu den Erzählungen dieser Frauen schild
 ert der Film\, wie Anna\, eine pensionierte deutsche Lehrerin\, das Schick
 sal dieser Frauen ganz persönlich wahrnahm und daraus Konsequenzen zog: Z
 usammen mit dem deutschen Ashram Shanthimalai beginnt sie in ganz kleinen 
 Schritten\, diesen indischen Frauen\, überwiegend geächteten Witwen\, di
 e kaum Überlebensperspektiven haben\, und ihren Kindern zu helfen.\nInzwi
 schen ist Om Shanthi Old Age Home entstanden\, ein Refugium und Hospiz\, w
 o alte\, obdachlose Frauen das Leben neu erfahren oder in Frieden sterben 
 können.\nDer Film „….sie schaute mir direkt ins Herz“ ist eine Kopr
 oduktion von indischen und bayrischen Jugendlichen\, die unter der Leitung
  von Thilo Pohle diesen Dokumentarfilm 2010 staunend produzierten.\nAnna E
 tter wird da sein und gerne von ihren persönlichen Erfahrungen und vom Wa
 chstum des Projekts berichten.\nVeranstalterinnen:\nBeginen Köln e.V.\n\n
 Ansprechpartnerinnen:\nChristine Müthrath\, Tel.: 0221 / 9655820\, E-Mail
 : info@beginen.de\n\nKosten / Anmeldung:\nKostenbeitrag auf Spendenbasis f
 ür das Witwenprojekt in Indien\n\nVeranstaltungsort:\nBeginentreff im Beg
 inenhof Köln\, Unter Linden 119\, 50859 Köln\, [map id=1048]
END:VEVENT
BEGIN:VTIMEZONE
TZID:Europe/Berlin
X-LIC-LOCATION:Europe/Berlin
BEGIN:DAYLIGHT
DTSTART:20180325T030000
TZOFFSETFROM:+0100
TZOFFSETTO:+0200
TZNAME:CEST
END:DAYLIGHT
END:VTIMEZONE
END:VCALENDAR