BEGIN:VCALENDAR
VERSION:2.0
PRODID:-//wp-events-plugin.com//7.2.3.1//EN
TZID:Europe/Berlin
X-WR-TIMEZONE:Europe/Berlin
BEGIN:VEVENT
UID:3773@frauenportal.koeln
DTSTART;TZID=Europe/Berlin:20220603T190000
DTEND;TZID=Europe/Berlin:20220603T210000
DTSTAMP:20220531T115626Z
URL:https://frauenportal.koeln/veranstaltungen/filmabend-coco-chanel-der-b
 eginn-einer-leidenschaft/
SUMMARY:Filmabend: „Coco Chanel – Der Beginn einer Leidenschaft“
DESCRIPTION:– Vom Waisenhaus zur Haute Couture –\n\nDie unglaubliche Ge
 schichte der Coco Chanel. In dem Film werden ihre Lebensstationen vom Wais
 enhaus\, zur Sängerin\, Näherin\, gesellschaftlichen Rebellin und Modeik
 one mit unzähmbarem kreativen Geist nachgezeichnet. Sie ging einen mutige
 n Weg mit neuem Look und Lebensgefühl\, dem viele moderne Frauen bald fol
 gten. Ein Film von Anne Fontaine\, 2009.\n \nVeranstalterin:\nBeginen Köl
 n e.V.\n\nAnsprechpartnerinnen:\nChristine Müthrath\, Tel.: 0221 / 965582
 0\, E-Mail: info@beginen.de\n\nKosten / Anmeldung:\nKostenbeitrag auf Spen
 denbasis. Anmeldung erforderlich.\n\nVeranstaltungsort:\nBeginentreff im B
 eginenhof Köln\, Unter Linden 119\, 50859 Köln\, [map id=1048]
END:VEVENT
BEGIN:VTIMEZONE
TZID:Europe/Berlin
X-LIC-LOCATION:Europe/Berlin
BEGIN:DAYLIGHT
DTSTART:20220327T030000
TZOFFSETFROM:+0100
TZOFFSETTO:+0200
TZNAME:CEST
END:DAYLIGHT
END:VTIMEZONE
END:VCALENDAR