BEGIN:VCALENDAR
VERSION:2.0
PRODID:-//wp-events-plugin.com//7.2.3.1//EN
TZID:Europe/Berlin
X-WR-TIMEZONE:Europe/Berlin
BEGIN:VEVENT
UID:3924@frauenportal.koeln
DTSTART;TZID=Europe/Berlin:20230217T190000
DTEND;TZID=Europe/Berlin:20230217T210000
DTSTAMP:20230131T140945Z
URL:https://frauenportal.koeln/veranstaltungen/filmabend-das-wunder-von-ta
 ipeh/
SUMMARY:Filmabend: Das Wunder von Taipeh
DESCRIPTION:– Dokumentarfilm 2019 von John David Seidler –\n\nIn diesem
  Film geht es nicht nur um Fußball\, sondern um Gleichberechtigung und An
 erkennung. Bis 1970 war Frauenfußball verboten\, auch danach signalisiert
 e der DFB kein Interesse daran Frauenfußball zu fördern. Auch 1981 gab e
 s in der damaligen BRD keine Frauennationalmannschaft\, als Taiwan zur 1. 
 Frauenfußballweltmeisterschaft eingeladen hat. Die Spielerinnen des SSG09
  Bergisch-Gladbach reisten die auf eigene Kosten nach Taipeh und holten de
 n Weltmeistertitel.\n \nVeranstalterin:\nBeginen Köln e.V.\n\nAnsprechpar
 tnerinnen:\nChristine Müthrath\, Tel.: 0221 / 9655820\, E-Mail: info@begi
 nen.de\n\nKosten / Anmeldung:\nKostenbeitrag auf Spendenbasis. Anmeldung e
 rforderlich.
LOCATION:Beginenhof Köln\, Unter Linden 119\, 50859 Köln
GEO:50.9636513;6.8421158
X-APPLE-STRUCTURED-LOCATION;VALUE=URI;X-ADDRESS=Unter Linden 119\, Köln\, 
 50859\, Veranstaltungsort\, Deutschland;X-APPLE-RADIUS=100;X-TITLE=Beginen
 hof Köln:geo:50.9636513,6.8421158
END:VEVENT
BEGIN:VTIMEZONE
TZID:Europe/Berlin
X-LIC-LOCATION:Europe/Berlin
BEGIN:STANDARD
DTSTART:20221030T020000
TZOFFSETFROM:+0200
TZOFFSETTO:+0100
TZNAME:CET
END:STANDARD
END:VTIMEZONE
END:VCALENDAR