BEGIN:VCALENDAR
VERSION:2.0
PRODID:-//wp-events-plugin.com//7.2.3.1//EN
TZID:Europe/Berlin
X-WR-TIMEZONE:Europe/Berlin
BEGIN:VEVENT
UID:4225@frauenportal.koeln
DTSTART;TZID=Europe/Berlin:20230310T190000
DTEND;TZID=Europe/Berlin:20230310T210000
DTSTAMP:20230228T085311Z
URL:https://frauenportal.koeln/veranstaltungen/filmabend-der-honiggarten/
SUMMARY:Filmabend: Der Honiggarten
DESCRIPTION:Film von Annabel Jankel 2018.\n\nEine Liebe gegen alle Widerst
 ände – Schottland 1952 – \n\nDie junge Ärztin Dr. Jean Markham über
 nimmt die Praxis ihres Vaters. Einer ihrer Patienten ist der Junge Charlie
 . Er und Jean interessieren sich für die Aufzucht von Bienen und freunden
  sich schnell miteinander an. Jean nimmt ihn und seine Mutter auf\, als si
 e ihre Wohnung verlieren. Die beiden Frauen kommen sich langsam näher und
  Charlie weiß noch nicht\, welches Geheimnis es in der kleinen Stadt bald
  zu hüten gibt.\n \nVeranstalterin:\nBeginen Köln e.V.\n\nAnsprechpartne
 rinnen:\nChristine Müthrath\, Tel.: 0221 / 9655820\, E-Mail: info@beginen
 .de\n\nKosten / Anmeldung:\nKostenbeitrag auf Spendenbasis. Anmeldung erfo
 rderlich.
LOCATION:Beginenhof Köln\, Unter Linden 119\, 50859 Köln
GEO:50.9636513;6.8421158
X-APPLE-STRUCTURED-LOCATION;VALUE=URI;X-ADDRESS=Unter Linden 119\, Köln\, 
 50859\, Veranstaltungsort\, Deutschland;X-APPLE-RADIUS=100;X-TITLE=Beginen
 hof Köln:geo:50.9636513,6.8421158
END:VEVENT
BEGIN:VTIMEZONE
TZID:Europe/Berlin
X-LIC-LOCATION:Europe/Berlin
BEGIN:STANDARD
DTSTART:20221030T020000
TZOFFSETFROM:+0200
TZOFFSETTO:+0100
TZNAME:CET
END:STANDARD
END:VTIMEZONE
END:VCALENDAR