BEGIN:VCALENDAR
VERSION:2.0
PRODID:-//wp-events-plugin.com//7.2.3.1//EN
TZID:Europe/Berlin
X-WR-TIMEZONE:Europe/Berlin
BEGIN:VEVENT
UID:3525@frauenportal.koeln
DTSTART;TZID=Europe/Berlin:20211210T190000
DTEND;TZID=Europe/Berlin:20211210T210000
DTSTAMP:20211130T145845Z
URL:https://frauenportal.koeln/veranstaltungen/filmabend-der-traum-lebt-me
 in-leben-zu-ende/
SUMMARY:Filmabend: „Der Traum lebt mein Leben zu Ende“
DESCRIPTION:Das Leben der Dichterin Rose Ausländer (1901 – 1988).\nEin D
 okumentarfilm von Katharine Schubert 2012.\n\nDas Schicksal hat Rose Ausl
 änder\, eine der bedeutendsten Lyrikerinnen des 20. Jahrhunderts\, durch 
 die halbe Welt getrieben.  Dabei begleitete sie 70 Jahre lang das Schreibe
 n von Gedichten. Sie sagte selbst „Schreiben ist ein Trieb“. Eine so e
 nge Verknüpfung von Leben und Werk wie bei Rose Ausländer ist sehr ungew
 öhnlich\, selten\, vielleicht einmalig.\n\nVeranstalterin:\nBeginen Köln
  e.V.\n\nAnsprechpartnerinnen:\nChristine Müthrath\, Tel.: 0221 / 9655820
 \, E-Mail: info@beginen.de\n\nKosten / Anmeldung:\nKostenbeitrag auf Spend
 enbasis. \nDie Anzahl der Teilnehmer*innen ist begrenzt. \nDeshalb ist ein
 e Anmeldung erforderlich.\nTeilnahme ist nur für Geimpfte\, Genesene oder
  aktuell Getestete möglich.\nWeiterhin sind auch die AHA-Regeln zu beacht
 en (Abstand\, Hygiene\, Masken).\n\nVeranstaltungsort:\nBeginentreff im Be
 ginenhof Köln\, Unter Linden 119\, 50859 Köln\, [map id=1048]
END:VEVENT
BEGIN:VTIMEZONE
TZID:Europe/Berlin
X-LIC-LOCATION:Europe/Berlin
BEGIN:STANDARD
DTSTART:20211031T020000
TZOFFSETFROM:+0200
TZOFFSETTO:+0100
TZNAME:CET
END:STANDARD
END:VTIMEZONE
END:VCALENDAR