BEGIN:VCALENDAR
VERSION:2.0
PRODID:-//wp-events-plugin.com//7.2.3.1//EN
TZID:Europe/Berlin
X-WR-TIMEZONE:Europe/Berlin
BEGIN:VEVENT
UID:4278@frauenportal.koeln
DTSTART;TZID=Europe/Berlin:20230512T190000
DTEND;TZID=Europe/Berlin:20230512T210000
DTSTAMP:20230430T081155Z
URL:https://frauenportal.koeln/veranstaltungen/filmabend-die-berufung/
SUMMARY:Filmabend: Die Berufung
DESCRIPTION:Film von Annabel Jankel 2018.\n\n2018 von Mimi Leder. In dem Fi
 lm werden das Leben von Ruth Bader Ginsburg und ihr Kampf für Geschlechte
 rgerechtigkeit nachgezeichnet. Sie wurde als erste Frau in den obersten Ge
 richtshof der USA gewählt.\n \nVeranstalterin:\nBeginen Köln e.V.\n\nAns
 prechpartnerinnen:\nChristine Müthrath\, Tel.: 0221 / 9655820\, E-Mail: i
 nfo@beginen.de\n\nKosten / Anmeldung:\nKostenbeitrag auf Spendenbasis. Anm
 eldung erforderlich.
LOCATION:Beginenhof Köln\, Unter Linden 119\, 50859 Köln
GEO:50.9636513;6.8421158
X-APPLE-STRUCTURED-LOCATION;VALUE=URI;X-ADDRESS=Unter Linden 119\, Köln\, 
 50859\, Veranstaltungsort\, Deutschland;X-APPLE-RADIUS=100;X-TITLE=Beginen
 hof Köln:geo:50.9636513,6.8421158
END:VEVENT
BEGIN:VTIMEZONE
TZID:Europe/Berlin
X-LIC-LOCATION:Europe/Berlin
BEGIN:DAYLIGHT
DTSTART:20230326T030000
TZOFFSETFROM:+0100
TZOFFSETTO:+0200
TZNAME:CEST
END:DAYLIGHT
END:VTIMEZONE
END:VCALENDAR