BEGIN:VCALENDAR
VERSION:2.0
PRODID:-//wp-events-plugin.com//7.2.3.1//EN
TZID:Europe/Berlin
X-WR-TIMEZONE:Europe/Berlin
BEGIN:VEVENT
UID:3717@frauenportal.koeln
DTSTART;TZID=Europe/Berlin:20220422T190000
DTEND;TZID=Europe/Berlin:20220422T210000
DTSTAMP:20220331T081338Z
URL:https://frauenportal.koeln/veranstaltungen/filmabend-die-unbeugsamen/
SUMMARY:Filmabend: „Die Unbeugsamen“
DESCRIPTION:Der Film (2021) erzählt die Geschichte der Frauen der Bonner R
 epublik\, die sich ihre Beteiligung an den demokratischen Entscheidungspro
 zessen gegen erfolgsbesessene Männer wie echte Pionierinnen erkämpfen mu
 ssten. Unerschrocken\, ehrgeizig und mit unendlicher Geduld verfolgten sie
  ihren Weg und trotzten Vorurteilen und sexueller Diskriminierung. Politik
 erinnen von damals kommen zu Wort. Ihre Erinnerungen sind zugleich komisch
  und bitter\, absurd und bisweilen erschreckend ektuell.\n\nVeranstalterin
 :\nBeginen Köln e.V.\n\nAnsprechpartnerinnen:\nChristine Müthrath\, Tel.
 : 0221 / 9655820\, E-Mail: info@beginen.de\n\nKosten / Anmeldung:\nKostenb
 eitrag auf Spendenbasis. Anmeldung erforderlich.\n\nVeranstaltungsort:\nBe
 ginentreff im Beginenhof Köln\, Unter Linden 119\, 50859 Köln\, [map id=
 1048]
END:VEVENT
BEGIN:VTIMEZONE
TZID:Europe/Berlin
X-LIC-LOCATION:Europe/Berlin
BEGIN:DAYLIGHT
DTSTART:20220327T030000
TZOFFSETFROM:+0100
TZOFFSETTO:+0200
TZNAME:CEST
END:DAYLIGHT
END:VTIMEZONE
END:VCALENDAR