BEGIN:VCALENDAR
VERSION:2.0
PRODID:-//wp-events-plugin.com//7.2.3.1//EN
TZID:Europe/Berlin
X-WR-TIMEZONE:Europe/Berlin
BEGIN:VEVENT
UID:2837@frauenportal.koeln
DTSTART;TZID=Europe/Berlin:20200918T190000
DTEND;TZID=Europe/Berlin:20200918T210000
DTSTAMP:20200831T162512Z
URL:https://frauenportal.koeln/veranstaltungen/filmabend-hans-kueng-spuren
 suche-christentum/
SUMMARY:Filmabend: Hans Küng: Spurensuche – Christentum
DESCRIPTION:Gemeinsam angesehen wird der Film von Hans Küng\, dem Gründer
  der Stiftung „Weltethos“. Danach ist dann Raum und Zeit für einen Au
 stausch.\n\nModeration: Maria Rach\n\nHans Küng plädiert mit seiner Stif
 tung für die Suche nach Brückenbauern*innen\, Helfer*innen\, die ein Wel
 tethos jenseits aller Grenzen entwickeln\, Grenzen\, die mit und durch Rel
 igionen allzu oft gezogen werden\, die instrumentalisiert werden\, um Äng
 ste zu schüren\, die rassistisches und fremdenfeindliches Handeln legitim
 ieren sollen. Wollen wir diese Grenzen überwinden\, müssen wir mehr übe
 r diese Religionen erfahren. Dieses Wissen in Bezug auf das Christentum zu
  vertiefen\, ist Ziel des Abends. Es geht um Verstehen\, nicht um Beurteil
 en\, es geht um Erkenntnis statt Vorurteil.\n\nVeranstalterin:\nBeginen K
 öln e.V.\n\nAnsprechpartnerinnen:\nChristine Müthrath\, Tel.: 0221 / 965
 5820\, E-Mail: info@beginen.de\n\nKosten / Anmeldung:\nKostenbeitrag auf S
 pendenbasis. Anmeldung erforderlich!\n\nVeranstaltungsort:\nBeginentreff i
 m Beginenhof Köln\, Unter Linden 119\, 50859 Köln\, [map id=1048]
END:VEVENT
BEGIN:VTIMEZONE
TZID:Europe/Berlin
X-LIC-LOCATION:Europe/Berlin
BEGIN:DAYLIGHT
DTSTART:20200329T030000
TZOFFSETFROM:+0100
TZOFFSETTO:+0200
TZNAME:CEST
END:DAYLIGHT
END:VTIMEZONE
END:VCALENDAR