BEGIN:VCALENDAR
VERSION:2.0
PRODID:-//wp-events-plugin.com//7.2.3.1//EN
TZID:Europe/Berlin
X-WR-TIMEZONE:Europe/Berlin
BEGIN:VEVENT
UID:2624@frauenportal.koeln
DTSTART;TZID=Europe/Berlin:20200228T190000
DTEND;TZID=Europe/Berlin:20200228T210000
DTSTAMP:20200131T134106Z
URL:https://frauenportal.koeln/veranstaltungen/filmabend-hans-kueng-spuren
 suche-der-buddhismusdus-gezang-fyn-mayn-hartz-jiddische-lieder-2/
SUMMARY:Filmabend: Hans Küng: Spurensuche – Buddhismus
DESCRIPTION:Gemeinsam wird der Film von Hans Küng\, dem Gründer der Stift
 ung „Weltethos“\,gesehen an. Danach ist dann Raum und Zeit für einen 
 Austausch.\n\nModeration: Maria Rach\n\nHans Küng plädiert mit seiner St
 iftung für die Suche nach Brückenbauern*innen\, Helfer*innen\, die ein W
 eltethos jenseits aller Grenzen entwickeln\, Grenzen\, die mit und durch R
 eligionen allzu oft gezogen werden\, die instrumentalisiert werden\, um Ä
 ngste zu schüren\, die rassistisches und fremdenfeindliches Handeln legit
 imieren sollen. Wollen wir diese Grenzen überwinden\, müssen wir mehr ü
 ber diese Religionen erfahren. Dieses Wissen in Bezug auf den Buddhismus z
 u vertiefen\, ist Ziel des Abends. Es geht um Verstehen\, nicht um Beurtei
 len\, es geht um Erkenntnis statt Vorurteil.\n\nVeranstalterin:\nBeginen K
 öln e.V.\n\nAnsprechpartnerinnen:\nChristine Müthrath\, Tel.: 0221 / 965
 5820\, E-Mail: info@beginen.de\n\nKosten / Anmeldung:\nKostenbeitrag auf S
 pendenbasis.\n\nVeranstaltungsort:\nBeginentreff im Beginenhof Köln\, Unt
 er Linden 119\, 50859 Köln\, [map id=1048]
END:VEVENT
BEGIN:VTIMEZONE
TZID:Europe/Berlin
X-LIC-LOCATION:Europe/Berlin
BEGIN:STANDARD
DTSTART:20191027T020000
TZOFFSETFROM:+0200
TZOFFSETTO:+0100
TZNAME:CET
END:STANDARD
END:VTIMEZONE
END:VCALENDAR