BEGIN:VCALENDAR
VERSION:2.0
PRODID:-//wp-events-plugin.com//7.2.3.1//EN
TZID:Europe/Berlin
X-WR-TIMEZONE:Europe/Berlin
BEGIN:VEVENT
UID:3331@frauenportal.koeln
DTSTART;TZID=Europe/Berlin:20210924T190000
DTEND;TZID=Europe/Berlin:20210924T210000
DTSTAMP:20210831T145059Z
URL:https://frauenportal.koeln/veranstaltungen/filmabend-home/
SUMMARY:Filmabend: „Home“
DESCRIPTION:Eine Reise in 50 Länder. Die schönsten Bilder dieser Erde und
  ein Plädoyer für ihre Zukunft.\n\nEin Film von Yann Arthus-Bertrand 200
 8.\n\nDer Film „HOME“ nimmt uns mit auf eine spannende Reise und zeigt
  uns die Welt in atemberaubenden Bildern. Ihr Zustand ist kritisch\, aber 
 nicht hoffnungslos\, wenn wir uns jetzt entscheiden\, sie zu retten. Yann 
 Arthus-Bertrand lässt uns teilhaben an seiner Faszination für die Natur\
 , aber auch an seinen Sorgen um ihre Zukunft. \n\nVeranstalterin:\nBeginen
  Köln e.V.\n\nAnsprechpartnerinnen:\nChristine Müthrath\, Tel.: 0221 / 9
 655820\, E-Mail: info@beginen.de\n\nKosten / Anmeldung:\nKostenbeitrag auf
  Spendenbasis. \nDie Anzahl der Teilnehmer*innen ist begrenzt. \nDeshalb i
 st eine Anmeldung dringend erforderlich.\nTeilnahme ist nur für Geimpfte\
 , Genesene oder aktuell Getestete möglich.\nWeiterhin sind auch die AHA-R
 egeln zu beachten (Abstand\, Hygiene\, Masken).\n\nVeranstaltungsort:\nBeg
 inentreff im Beginenhof Köln\, Unter Linden 119\, 50859 Köln\, [map id=1
 048]
END:VEVENT
BEGIN:VTIMEZONE
TZID:Europe/Berlin
X-LIC-LOCATION:Europe/Berlin
BEGIN:DAYLIGHT
DTSTART:20210328T030000
TZOFFSETFROM:+0100
TZOFFSETTO:+0200
TZNAME:CEST
END:DAYLIGHT
END:VTIMEZONE
END:VCALENDAR