BEGIN:VCALENDAR
VERSION:2.0
PRODID:-//wp-events-plugin.com//7.2.3.1//EN
TZID:Europe/Berlin
X-WR-TIMEZONE:Europe/Berlin
BEGIN:VEVENT
UID:4686@frauenportal.koeln
DTSTART;TZID=Europe/Berlin:20240223T190000
DTEND;TZID=Europe/Berlin:20240223T210000
DTSTAMP:20240131T144304Z
URL:https://frauenportal.koeln/veranstaltungen/filmabend-mitgefuehl/
SUMMARY:Filmabend: Mitgefühl
DESCRIPTION:Dokumentarfilm 2021 von Louise Detlefsen.\n\nMay Bjerre Eiby ha
 t ein Pflegeheim in Dänemark gegründet\, in dem Menschen mit Demenz auf 
 eine besondere Art und Weise begegnet wird. Dabei geht es weniger um spezi
 elle Diagnosen oder Medikamente\, sondern um die konkrete Verbesserung der
  Lebensqualität der Bewohnenden.\n\nDer Film gewährt einen so warmherzig
 en wie inspirierenden Blick in den Alltag von Menschen mit Demenz und in e
 ine Welt\, in der die Kraft menschlicher Nähe kleine Wunder bewirken kann
 . \n \nVeranstalterin:\nBeginen Köln e.V.\n\nAnsprechpartnerinnen:\nChris
 tine Müthrath\, Tel.: 0221 / 9655820\, E-Mail: info@beginen.de\n\nKosten 
 / Anmeldung:\nKostenbeitrag auf Spendenbasis. Anmeldung erforderlich.
LOCATION:Beginenhof Köln\, Unter Linden 119\, 50859 Köln
GEO:50.9636513;6.8421158
X-APPLE-STRUCTURED-LOCATION;VALUE=URI;X-ADDRESS=Unter Linden 119\, Köln\, 
 50859\, Veranstaltungsort\, Deutschland;X-APPLE-RADIUS=100;X-TITLE=Beginen
 hof Köln:geo:50.9636513,6.8421158
END:VEVENT
BEGIN:VTIMEZONE
TZID:Europe/Berlin
X-LIC-LOCATION:Europe/Berlin
BEGIN:STANDARD
DTSTART:20231029T020000
TZOFFSETFROM:+0200
TZOFFSETTO:+0100
TZNAME:CET
END:STANDARD
END:VTIMEZONE
END:VCALENDAR