BEGIN:VCALENDAR
VERSION:2.0
PRODID:-//wp-events-plugin.com//7.2.3.1//EN
TZID:Europe/Berlin
X-WR-TIMEZONE:Europe/Berlin
BEGIN:VEVENT
UID:4179@frauenportal.koeln
DTSTART;TZID=Europe/Berlin:20230120T190000
DTEND;TZID=Europe/Berlin:20230120T210000
DTSTAMP:20221230T105758Z
URL:https://frauenportal.koeln/veranstaltungen/filmabend-oma-und-bella/
SUMMARY:Filmabend: Oma und Bella
DESCRIPTION:Ein Film der Filmemacherin Alexa Karolinski von 2012.\n\nEin be
 rührender\, ergreifender und beglückender Film. Bella (Jahrgang 1923) un
 d Regina (Jahrgang 1927) wohnen seit 5 Jahren in einer Berliner Wohnung un
 d kochen für ihr Leben gern. Während sie ihre berühmte Hühnersuppe koc
 hen\, erzählen sie von ihrer Kindheit\, ihrem Überleben in Ghetto und La
 ger\, ihren Männer und dem Leben nach dem Krieg in Berlin. Dabei wurden d
 ie lebensfrohen und energischen alten Damen mit der Kamera beobachtet.\n \
 nVeranstalterin:\nBeginen Köln e.V.\n\nAnsprechpartnerinnen:\nChristine M
 üthrath\, Tel.: 0221 / 9655820\, E-Mail: info@beginen.de\n\nKosten / Anme
 ldung:\nKostenbeitrag auf Spendenbasis. Anmeldung erforderlich.
LOCATION:Beginenhof Köln\, Unter Linden 119\, 50859 Köln
GEO:50.9636513;6.8421158
X-APPLE-STRUCTURED-LOCATION;VALUE=URI;X-ADDRESS=Unter Linden 119\, Köln\, 
 50859\, Veranstaltungsort\, Deutschland;X-APPLE-RADIUS=100;X-TITLE=Beginen
 hof Köln:geo:50.9636513,6.8421158
END:VEVENT
BEGIN:VTIMEZONE
TZID:Europe/Berlin
X-LIC-LOCATION:Europe/Berlin
BEGIN:STANDARD
DTSTART:20221030T020000
TZOFFSETFROM:+0200
TZOFFSETTO:+0100
TZNAME:CET
END:STANDARD
END:VTIMEZONE
END:VCALENDAR