BEGIN:VCALENDAR
VERSION:2.0
PRODID:-//wp-events-plugin.com//7.2.3.1//EN
TZID:Europe/Berlin
X-WR-TIMEZONE:Europe/Berlin
BEGIN:VEVENT
UID:3881@frauenportal.koeln
DTSTART;TZID=Europe/Berlin:20220902T190000
DTEND;TZID=Europe/Berlin:20220902T210000
DTSTAMP:20220831T144213Z
URL:https://frauenportal.koeln/veranstaltungen/filmabend-tanz-mit-der-zeit
 /
SUMMARY:Filmabend: "Tanz mit der Zeit"
DESCRIPTION:Ein sehenswert lebendiger Film von Trevor Peters\, der zu Trän
 en rührt. Die Karrieren im klassischen Ballett enden in der Regel spätes
 tens mit Mitte 30. Doch vier ehemalige professionelle Tänzerinnen und Tä
 nzer\, die mittlerweile alle auf die 80 zu gehen\, sind der Aufforderung z
 u einem erneuten Tanz gefolgt und auf die Bühne zurück gekehrt. Eine ein
 fühlsame Reflektion über das Altern und das nicht nur für Tanzbegeister
 te.\n \nVeranstalterin:\nBeginen Köln e.V.\n\nAnsprechpartnerinnen:\nChri
 stine Müthrath\, Tel.: 0221 / 9655820\, E-Mail: info@beginen.de\n\nKosten
  / Anmeldung:\nKostenbeitrag auf Spendenbasis. Anmeldung erforderlich.\n\n
 Veranstaltungsort:\nBeginentreff im Beginenhof Köln\, Unter Linden 119\, 
 50859 Köln\, [map id=1048]
END:VEVENT
BEGIN:VTIMEZONE
TZID:Europe/Berlin
X-LIC-LOCATION:Europe/Berlin
BEGIN:DAYLIGHT
DTSTART:20220327T030000
TZOFFSETFROM:+0100
TZOFFSETTO:+0200
TZNAME:CEST
END:DAYLIGHT
END:VTIMEZONE
END:VCALENDAR