BEGIN:VCALENDAR
VERSION:2.0
PRODID:-//wp-events-plugin.com//7.2.3.1//EN
TZID:Europe/Berlin
X-WR-TIMEZONE:Europe/Berlin
BEGIN:VEVENT
UID:5147@frauenportal.koeln
DTSTART;TZID=Europe/Berlin:20240830T190000
DTEND;TZID=Europe/Berlin:20240830T213000
DTSTAMP:20240827T063357Z
URL:https://frauenportal.koeln/veranstaltungen/filmvorfuehrung-vater-unser
 -und-diskussion-mit-vertreterinnen-von-maria-2-0/
SUMMARY:Filmvorführung „Vater Unser“ und Diskussion mit Vertreterinnen
  von Maria 2.0
DESCRIPTION:Der Dokumentarfilm „Vater Unser“ begleitet den jungen römi
 sch-katholischen Priester Robi\, der seit neun Jahren in einem kleinen ung
 arischen Grenzdorf Gemeindepfarrer ist – mit viel Engagement und Liebe. 
 Doch Robi ist außerdem Vater von drei Kindern. Die Familie\, die er nicht
  haben darf\, wohnt an einem anderen Ort und er besucht sie für wenige St
 unden in der Woche. Die Gemeinde\, die ihren Priester sehr schätzt\, wei
 ß nichts von seiner Frau Anka und den Kindern. Robi weiß jedoch\, dass s
 eine Kinder ihn als Vater brauchen\, nicht nur als Besucher. Er steht vor 
 einer einer existenziellen Entscheidung. Die Kamera begleitet ihn dabei un
 d zeigt seine Ängste. Werden seine Gemeindemitglieder ihn verstehen? Werd
 en sie ihm vergeben? Und wie streng werden der Bischof und der Kirchenvors
 tand mit ihrem verlorenen „Schäfchen“ umgehen? Der einzige Mensch auf
  Erden\, der Robi von seinem Gelübde des Zölibats freisprechen kann\, is
 t Papst Franziskus.\n \nDer Film  wird in der besonderen Atmosphäre der K
 rypta der St. Gertrud Kirche gezeigt. Im anschließenden Gespräch in Zusa
 mmenarbeit mit Maria 2.0 soll es um kirchliches Engagement\, Veränderung 
 und Stillstand\, Dilemmata und das Zölibat gehen.\n\nVeranstalterinnen:\n
 \n	Maria 2.0 Köln\, mariazweipunktnull-rheinland.de\n	Dokomotive Plattfor
 m e.V.\, https://plattform.dokomotive.com\n\n\nKontakt:\nSilvia Schröder\
 , E-Mail: Maria2.0.bw@gmail.com
LOCATION:Kulturkirche St. Gertrud\, Krefelder Str. 57\, 50670 Köln
GEO:50.951824;6.951953
X-APPLE-STRUCTURED-LOCATION;VALUE=URI;X-ADDRESS=Krefelder Str. 57\, Köln\,
  Nordrhein-Westfalen\, 50670\, Veranstaltungsort\, Deutschland;X-APPLE-RAD
 IUS=100;X-TITLE=Kulturkirche St. Gertrud:geo:50.951824,6.951953
END:VEVENT
BEGIN:VTIMEZONE
TZID:Europe/Berlin
X-LIC-LOCATION:Europe/Berlin
BEGIN:DAYLIGHT
DTSTART:20240331T030000
TZOFFSETFROM:+0100
TZOFFSETTO:+0200
TZNAME:CEST
END:DAYLIGHT
END:VTIMEZONE
END:VCALENDAR