BEGIN:VCALENDAR
VERSION:2.0
PRODID:-//wp-events-plugin.com//7.2.3.1//EN
TZID:Europe/Berlin
X-WR-TIMEZONE:Europe/Berlin
BEGIN:VEVENT
UID:3708@frauenportal.koeln
DTSTART;TZID=Europe/Berlin:20220401T093000
DTEND;TZID=Europe/Berlin:20220401T110000
DTSTAMP:20220330T091244Z
URL:https://frauenportal.koeln/veranstaltungen/finanzfitness-fuer-frauen-s
 taerken-sie-ihr-finanzielles-selbstvertrauen/
SUMMARY:Finanzfitness für Frauen - Stärken Sie Ihr finanzielles Selbstver
 trauen
DESCRIPTION:Familie und Beruf zu managen ist eine anspruchsvolle Aufgabe\, 
 bei der die eigene Risikoabsicherung und Zukunftsvorsorge oft zu kurz komm
 en. Dazu sind typisch weibliche Erwerbsbiografien durch familienbedingte U
 nterbrechungen gekennzeichnet. Dies hat langfristig Auswirkungen auf die F
 inanzbiografie und die finanzielle Absicherung von Frauen.\n\nZu diesem Th
 ema hält die Soziologin Dr. Birgit Happel\, Referentin\, Trainerin und Co
 ach für die Professionalisierung der finanziellen Bildung und finanzielle
 n Gleichstellung\, einen Vortrag.\n\nHier ist die Einladung: Finanzfitness
 _für_Frauen_01.04.2022 (pdf-Datei\, 473 KB)\n\nVeranstalterinnen:\nBeauft
 ragte für Chancengleichheit am Arbeitsmarkt (BCA) der Agentur für Arbeit
  Köln\nBCA des JobCenters Köln\, www.jobcenterkoeln.de/gleiche-chancen-i
 m-job/\n\nAnsprechpartnerinnen:\nAgnes Metz\, Tel.: 0221 / 9429-5400\, E-M
 ail: Koeln.BCA@arbeitsagentur.de\nMeryem Demirtaş\, Tel.: 0221 / 9429 830
 0\, E-Mail: Jobcenter-Koeln.BCA@jobcenter-ge.de\n\nKosten / Anmeldung:\nDe
 r Workshop findet online über Zoom statt und ist kostenfrei.\nAnmeldung 
 über: Koeln.BCA@arbeitsagentur.de  oder  Jobcenter-Koeln.BCA@jobcenter-ge
 .de\n\nVeranstaltungsort:\nonline
END:VEVENT
BEGIN:VTIMEZONE
TZID:Europe/Berlin
X-LIC-LOCATION:Europe/Berlin
BEGIN:DAYLIGHT
DTSTART:20220327T030000
TZOFFSETFROM:+0100
TZOFFSETTO:+0200
TZNAME:CEST
END:DAYLIGHT
END:VTIMEZONE
END:VCALENDAR