BEGIN:VCALENDAR
VERSION:2.0
PRODID:-//wp-events-plugin.com//7.2.3.1//EN
TZID:Europe/Berlin
X-WR-TIMEZONE:Europe/Berlin
BEGIN:VEVENT
UID:3161@frauenportal.koeln
DTSTART;TZID=Europe/Berlin:20210225T100000
DTEND;TZID=Europe/Berlin:20210225T113000
DTSTAMP:20210115T111323Z
URL:https://frauenportal.koeln/veranstaltungen/finanzfruehstueck-10/
SUMMARY:Finanzfrühstück
DESCRIPTION:Beim digitalen Finanzfrühstück wird über aktuelle Themen auf
  dem Finanzmarkt diskutiert. Das kann die Geldanlage sein\, die Altersvors
 orge\, der Vermögensaufbau\, die Erbschaft\, der Immobilienwunsch… Alle
  Fragen und Meinungen rund ums Thema Geld können hier angesprochen werden
 .\nUrsula Haas moderieret die Gruppe\, gibt Gesprächsanregungen und auch 
 gerne mal einen fachkundigen Rat.\nDa es in diesen Zeiten nur digital mög
 lich ist\, sorgt natürlich jede fürs eigene Frühstück.\n\nDas Frühst
 ück findet von 10 - 11.30 Uhr als Zoom-Videokonferenz statt.\nTeilnahme n
 ur nach vorheriger Anmeldung per Mail an: Ursula.haas@dvag.de\nbis 2 Tage 
 vorher. Den Anmeldlink gibt es dann per E-Mail.\n\nDie Teilnahme ist derze
 it kostenfrei.
END:VEVENT
BEGIN:VTIMEZONE
TZID:Europe/Berlin
X-LIC-LOCATION:Europe/Berlin
BEGIN:STANDARD
DTSTART:20201025T020000
TZOFFSETFROM:+0200
TZOFFSETTO:+0100
TZNAME:CET
END:STANDARD
END:VTIMEZONE
END:VCALENDAR