BEGIN:VCALENDAR
VERSION:2.0
PRODID:-//wp-events-plugin.com//7.2.3.1//EN
TZID:Europe/Berlin
X-WR-TIMEZONE:Europe/Berlin
BEGIN:VEVENT
UID:4248@frauenportal.koeln
DTSTART;TZID=Europe/Berlin:20230308T090000
DTEND;TZID=Europe/Berlin:20230308T110000
DTSTAMP:20241115T085123Z
URL:https://frauenportal.koeln/veranstaltungen/finissage-mit-aktionsprogra
 mm-ausstellung-wir-schweigen-nicht/
SUMMARY:Finissage mit Aktionsprogramm Ausstellung „Wir schweigen nicht“
DESCRIPTION:Zum Internationalen Frauentag gibt es eine "Kofferaktion" mit G
 lücksrad und Informationen unter dem Motto "Meine Last loswerden".\n\n–
  „Wir schweigen nicht“ – Gewalt darf kein Tabuthema sein! –\n \nFa
 miliäre Gewalt gibt es jeden Tag. Die Ausstellung „Wir schweigen nicht
 “ der Beratungsstelle HennaMond e.V.\, mit ihrer Zentrale in Longerich\,
  befasst sich mit der häusliche Gewalt und insbesondere mit den Themen Eh
 renmord\, Zwangsheirat und Genitalverstümmelung. Unter dem Deckmantel pat
 riarchaler Strukturen sind auch in Deutschland vor allem Mädchen und Frau
 en von diesen Formen familiärer Gewalt betroffen\, aber auch Menschen mit
  homosexueller Orientierung. \n\nDie Ausstellung\, die vom 9. Februar bis 
 9. März 2023 im Bezirksrathaus Nippes zu sehen ist\, rückt diese immer n
 och weit verbreiteten Tabuthemen ins Licht der Öffentlichkeit. Denn famil
 iäre Gewalt ist eine gesamtgesellschaftliche Angelegenheit. „Wir schwei
 gen nicht“ will sensibilisieren und aufklären. Vor allem aber demonstri
 eren\, dass die Opfer ernst genommen werden und Unterstützung erfahren k
 önnen.\n\nHier ist die Einladung: Vernissage Wir schweigen nicht 2023\, p
 df-Datei\, 311  KB\n\nVeranstalterinnen:\nBezirksbürgermeisterin Dr. Dian
 a Siebert\, www.bezirksbuergermeisterin-diana-siebert.de\nHenna Mond e.V.\
 , www.hennamond.de \n\nAnsprechpartnerin:\nKirsten Reinhardt\, Tel.: 0221 
 221-95301\, E-Mail: kirsten.reinhardt@stadt-koeln.de\n\nKosten / Anmeldung
 :\nEintritt frei. \n\nAusstellung läuft vom 9. Februar bis 9. März 2023 
 in der Rotunde im Bezirksrathaus Nippes\, Neusser Str. 450\, 50733 Köln.\
 n\nÖffnungszeiten: \nMontag\, 8 bis 15 Uhr\nDienstag\, 9 bis 18 Uhr\nDonn
 erstag\, 8 bis 16 Uhr\nMittwoch und Freitag\, 8 bis 12 Uhr
LOCATION:Bezirksrathaus Nippes\, Neusser Str. 450\, 50733 Köln
GEO:50.972772;6.951751
X-APPLE-STRUCTURED-LOCATION;VALUE=URI;X-ADDRESS=Neusser Str. 450\, Köln\, 
 50733\, Veranstaltungsort\, Deutschland;X-APPLE-RADIUS=100;X-TITLE=Bezirks
 rathaus Nippes:geo:50.972772,6.951751
END:VEVENT
BEGIN:VTIMEZONE
TZID:Europe/Berlin
X-LIC-LOCATION:Europe/Berlin
BEGIN:STANDARD
DTSTART:20221030T020000
TZOFFSETFROM:+0200
TZOFFSETTO:+0100
TZNAME:CET
END:STANDARD
END:VTIMEZONE
END:VCALENDAR