BEGIN:VCALENDAR
VERSION:2.0
PRODID:-//wp-events-plugin.com//7.2.3.1//EN
TZID:Europe/Berlin
X-WR-TIMEZONE:Europe/Berlin
BEGIN:VEVENT
UID:3167@frauenportal.koeln
DTSTART;TZID=Europe/Berlin:20210217T193000
DTEND;TZID=Europe/Berlin:20210217T210000
DTSTAMP:20230802T093349Z
URL:https://frauenportal.koeln/veranstaltungen/flausenzeit-neue-perspektiv
 en-entdecken/
SUMMARY:Flausenzeit: Neue Perspektiven entdecken
DESCRIPTION:Flausen sind leicht\, sinnlich und verführen zum Lächeln. Fla
 usen sind verrückte Ideen ohne Anspruch und Leistungsdruck\, aber sie ber
 gen eine große Kraft in sich: Flausen können zu Impulsgebern für alle B
 ereiche des Alltags des Berufslebens und für soziales Engagement werden. 
 \n\nGemeinsam mit Michaela Winkler wird an diesem Abend auf die Suche nach
  den eigenen Flausen gegangen und überlegt\, welche Bedeutung sie haben u
 nd wie sie sich vielleicht sogar dauerhaft im eigenen Leben halten lassen.
 \n\nReferentin:\nMichaela Winkler\, www.begeistern-fuer-gutes.de\n\nVerans
 talterin:\nBundesverband der Frau in Business und Management e.V.\n\nAnspr
 echpartnerin:\nAstrid Windfuhr\, Tel.: 0221 / 732 63 53\n\nKosten / Anmeld
 ung:\nBeitrag für Gäste 10 €\, Mitglieder frei.\n\nVeranstaltungsort:\
 nonline
END:VEVENT
BEGIN:VTIMEZONE
TZID:Europe/Berlin
X-LIC-LOCATION:Europe/Berlin
BEGIN:STANDARD
DTSTART:20201025T020000
TZOFFSETFROM:+0200
TZOFFSETTO:+0100
TZNAME:CET
END:STANDARD
END:VTIMEZONE
END:VCALENDAR