BEGIN:VCALENDAR
VERSION:2.0
PRODID:-//wp-events-plugin.com//7.2.3.1//EN
TZID:Europe/Berlin
X-WR-TIMEZONE:Europe/Berlin
BEGIN:VEVENT
UID:2804@frauenportal.koeln
DTSTART;TZID=Europe/Berlin:20200716T193000
DTEND;TZID=Europe/Berlin:20200716T213000
DTSTAMP:20200709T090612Z
URL:https://frauenportal.koeln/veranstaltungen/fmck-abendkonzert-2/
SUMMARY:FMCK: Abendkonzert
DESCRIPTION:Der FrauenMusikClubKöln e.V. präsentiert:\n \nEin kleines und
  luftiges Abstandskonzert!\nMit: \nThe L – Sound und andere Songs\nCarol
 ina Brauckmann (voc./git.)\nund Nicole Sperrmann (bass)\n \nVeranstalterin
 :\nFrauenmusikclub Köln e.V.\n\nKontakt:\nTel.: 0221 / 5 10 23 28\, E-Mai
 l: info@fmck.de\n\nAnmeldung:\nAchtung: Begrenzte Plätze!\nDaher aus Abst
 andsgründen bitte unbedingt anmelden: frauen-musik-club-koeln@gmx.de\n\nV
 eranstaltungsort:\nIn und vor der FIFFI BAR\, Severinswall 35\, 50678 Köl
 n\, [map id=13259]
END:VEVENT
BEGIN:VTIMEZONE
TZID:Europe/Berlin
X-LIC-LOCATION:Europe/Berlin
BEGIN:DAYLIGHT
DTSTART:20200329T030000
TZOFFSETFROM:+0100
TZOFFSETTO:+0200
TZNAME:CEST
END:DAYLIGHT
END:VTIMEZONE
END:VCALENDAR