BEGIN:VCALENDAR
VERSION:2.0
PRODID:-//wp-events-plugin.com//7.2.3.1//EN
TZID:Europe/Berlin
X-WR-TIMEZONE:Europe/Berlin
BEGIN:VEVENT
UID:4736@frauenportal.koeln
DTSTART;TZID=Europe/Berlin:20240320T170000
DTEND;TZID=Europe/Berlin:20240320T183000
DTSTAMP:20240307T164127Z
URL:https://frauenportal.koeln/veranstaltungen/fonds-sexueller-missbrauch-
 welche-moeglichkeiten-bietet-das-ergaenzende-hilfesystem-4/
SUMMARY:Fonds sexueller Missbrauch - welche Möglichkeiten bietet das Ergä
 nzende Hilfesystem
DESCRIPTION:Informationsveranstaltung für Psychotherapeut*innen und Heilpr
 aktiker*innen für Psychotherapie\n\nDer "Fonds sexueller Missbrauch" kann
  Menschen\, die in Kindheit und Jugend von (familiärer oder institutionel
 ler) sexualisierter Gewalt betroffen waren\, ergänzende Hilfeleistungen u
 .a. für therapeutische Unterstützung zur Verfügung stellen.\nVom Fonds 
 zertifiziert unterstützt FrauenLeben e.V. die Antragsstellung im Rahmen d
 er Beratungsarbeit.\nBei der Veranstaltung werden Fragen geklärt\, u.a. z
 u Voraussetzungen\, die Therapeut*innen dazu qualifizieren\, die Behandlun
 g mit dem Fonds abzurechnen\, und welche anderen Hilfeleistungen ihre Pati
 ent*innen beantragen können.\n\nReferentinnen: \nSvenja Haas\, Arzu Kilic
 \n\nWeiterer Termin:\nFreitag\, 12. April 2024\, 10.00 – 11.30 Uhr\n\nAn
 sprechpartnerin:\nMargret Schnetgöke\, Tel.: 0221 / 954 16 60\, E-Mail: \
 nmail@frauenleben.org\n&nbsp\;\nVeranstaltungsort:\nonline
END:VEVENT
BEGIN:VTIMEZONE
TZID:Europe/Berlin
X-LIC-LOCATION:Europe/Berlin
BEGIN:STANDARD
DTSTART:20231029T020000
TZOFFSETFROM:+0200
TZOFFSETTO:+0100
TZNAME:CET
END:STANDARD
END:VTIMEZONE
END:VCALENDAR